BEGIN:VCALENDAR
VERSION:2.0
PRODID:-//ChamberMaster//Event Calendar 2.0//EN
METHOD:PUBLISH
X-PUBLISHED-TTL:P3D
REFRESH-INTERVAL:P3D
CALSCALE:GREGORIAN
BEGIN:VEVENT
DTSTART:20191021T210000Z
DTEND:20191021T233000Z
X-MICROSOFT-CDO-ALLDAYEVENT:FALSE
SUMMARY:Dad's Belgian Waffles
DESCRIPTION:Dad's Belgian Waffle Fundraiser
X-ALT-DESC;FMTTYPE=text/html:Dad&#39\;s Belgian Waffle Fundraiser
LOCATION:Fergus Falls Senior Center 115 W. Lincoln Fergus Falls\, MN 56537
UID:e.314.54657
SEQUENCE:3
DTSTAMP:20260422T203816Z
URL:https://business.fergusfalls.com/events/details/dad-s-belgian-waffles-10-21-2019-54657
END:VEVENT

END:VCALENDAR
