BEGIN:VCALENDAR
VERSION:2.0
PRODID:-//ChamberMaster//Event Calendar 2.0//EN
METHOD:PUBLISH
X-PUBLISHED-TTL:P3D
REFRESH-INTERVAL:P3D
CALSCALE:GREGORIAN
BEGIN:VEVENT
DTSTART:20171009T213000Z
DTEND:20171009T233000Z
X-MICROSOFT-CDO-ALLDAYEVENT:FALSE
SUMMARY:Dad's Belgian Waffles
DESCRIPTION:Dad's Belgian Waffles Waffles\, sausages\, choice of 9 syrups\, whipped topping and beverages All you care to eat Take out available
X-ALT-DESC;FMTTYPE=text/html:Dad&#39\;s Belgian Waffles Waffles\, sausages\, choice of 9 syrups\, whipped topping and beverages All you care to eat Take out available
LOCATION:Fergus Falls Senior Center 115 W Lincoln Fergus Falls\, MN
UID:e.314.41611
SEQUENCE:3
DTSTAMP:20260424T092245Z
URL:https://business.fergusfalls.com/events/details/dad-s-belgian-waffles-41611
END:VEVENT

END:VCALENDAR
