BEGIN:VCALENDAR
VERSION:2.0
PRODID:-//ChamberMaster//Event Calendar 2.0//EN
METHOD:PUBLISH
X-PUBLISHED-TTL:P3D
REFRESH-INTERVAL:P3D
CALSCALE:GREGORIAN
BEGIN:VEVENT
DTSTART:20180511T233000Z
DTEND:20180512T013000Z
X-MICROSOFT-CDO-ALLDAYEVENT:FALSE
SUMMARY:Daddy Daughter Ball Fergus Falls 2018
DESCRIPTION:We're so glad you are interested in our 4th annual Daddy Daughter Ball! \n\n\n\nWe welcome all girls and their fathers (or significant male in their lives) to join us for a fun evening of dancing. We offer you a DJ\, a professional photographer\, light refreshments\, a selfie photobooth\, and a few SURPRISES this year. Each girl will receive 1 free digital copy of a posed picture with her dad after the event.\n\nCost is $20 per dad (it doesn't matter if you have 1 or 5 girls) if you pre-register here. Pregistration closes 5/09/18 at 11:30 pm. The price will increase to $25 per family on 5/10/18\, but you will still be able to purchase tickets here. Cost will be $25 at the door. We will accept cash and credit card at the door.\n\n*You only need to purchase ONE ticket per family.
X-ALT-DESC;FMTTYPE=text/html:<p><strong>We&#39\;re so glad you are interested in our 4th annual Daddy Daughter Ball! </strong><br />\n<br />\nWe welcome all girls and their fathers (or significant male in their lives) to join us for a fun evening of dancing. We offer you a DJ\, a professional photographer\, light refreshments\, a selfie photobooth\, and a few SURPRISES this year. Each girl will receive 1 free digital copy of a posed picture with her dad after the event.</p>\n\n<p>Cost is $20 per dad (it doesn&#39\;t matter if you have 1 or 5 girls) if you pre-register here. Pregistration closes 5/09/18 at 11:30 pm. The price will increase to $25 per family on 5/10/18\, but you will still be able to purchase tickets here. <span>Cost will be $25 at the door. We will accept cash and credit card at the door.</span></p>\n\n<p><strong><span>*You only need to purchase ONE ticket per family. </span></strong></p>\n
LOCATION:Hillcrest Academy 610 Hillcrest Dr\, Fergus Falls
UID:e.314.48768
SEQUENCE:3
DTSTAMP:20260423T235356Z
URL:https://business.fergusfalls.com/events/details/daddy-daughter-ball-fergus-falls-2018-48768
END:VEVENT

END:VCALENDAR
