BEGIN:VCALENDAR
VERSION:2.0
PRODID:-//ChamberMaster//Event Calendar 2.0//EN
METHOD:PUBLISH
X-PUBLISHED-TTL:P3D
REFRESH-INTERVAL:P3D
CALSCALE:GREGORIAN
BEGIN:VEVENT
DTSTART;VALUE=DATE:20200317
DTEND;VALUE=DATE:20200318
TRANSP:TRANSPARENT
X-MICROSOFT-CDO-ALLDAYEVENT:TRUE
SUMMARY:DAIRYLAND OPENS
DESCRIPTION:Tuesday\, March 17th for our 65th year of serving customers!!!\nMindful of the current COV19 health concerns\, we will only be serving customers in our drive thru or by ordering online at www.orderdairyland.com.\n\nThe lobby will remain closed until further notice.\n\nIt is our goal to serve our customers\, keep our staff healthy\, and to remain active in our community as everyone adapts to our current situation.\n\nWe appreciate your understanding and patience!!\n\nSincerely\,\n\nPat and Jean\n\n(And the peanuts gang). !!
X-ALT-DESC;FMTTYPE=text/html:Tuesday\, March 17th for our 65th year of serving customers!!!\n<p>Mindful of the current COV19 health concerns\, we will only be serving customers in our drive thru or by ordering online at <a data-ft="{&quot\;tn&quot\;:&quot\;-U&quot\;}" data-lynx-mode="hover" data-lynx-uri="https://l.facebook.com/l.php?u=http%3A%2F%2Fwww.orderdairyland.com%2F%3Ffbclid%3DIwAR2y2c5lgCY-KBFqxbBhxLJCgsjenVbBx7rR_o2rVy9MITV_zNHtzyqgJ78&amp\;h=AT3kpPrysC76W0XwbrsO7Fwc1sc-cyTBScKmZk8JU_9DdrlCZLMUbkAoyERAjCMwc7KFJHAYMjSoqKLCBbSjSfM8YVIyh10T_KpRqNCvhGah01Hm-aP20X2g0qXCcG1aTIQpiQvYxUuis00i34El6z4KSdKjKOmvXcYj5HmuJ_MydChxLgk54gffFGEgeI2TUpBb_WdJcD6CgpOr7E74ioEurogbcCYntI291IjsxrL3-TyqL4JhCPVgwxEjj6W09y-s-5KktA0PfFTwmZc0ZEVOENzPEr1DOVxh05x4Ykk9hrc15V8c2UgDgjS6HALK-B_5HONSL0GOQdqgIEK5-nNzlf2tBOVoYRLxofrok016IX_O9yTKRHLVLpbvRtlisBNCslwHJIQIpXW-Vs0aRcUJUtClcgbiB0qE4wFHmJKoPKVSPebLWo-ERvonLPUKWpzLKXmZHKPnmKD8T6Ql6gR5uBxm28KXLzLvQCMPkqKKcoC-u_k4oXjXpcJf5dSgMI3LATh5Ba0mUN5FznrGa7B5z-IUfDoZjo1nvzq0EEq3xi7jFWLBlxqnPJSjsXp4_NwePi_qVi-5ClBFjr1B7jdLMgFdCw2OqG3h7zddfeYAl21W6LSwP148cSBIcWBUvQ" href="http://www.orderdairyland.com/?fbclid=IwAR2y2c5lgCY-KBFqxbBhxLJCgsjenVbBx7rR_o2rVy9MITV_zNHtzyqgJ78" rel="nofollow" target="_blank"><font color="#0066cc">www.orderdairyland.com.</font></a></p>\n\n<p>The lobby will remain closed until further notice.</p>\n\n<p>It is our goal to serve our customers\, keep our staff healthy\, and to remain active in our community as everyone adapts to our current situation.</p>\n\n<p>We appreciate your understanding and patience!!</p>\n\n<p>Sincerely\,</p>\n\n<p>Pat and Jean<br />\n(And the peanuts gang). !!</p>\n
LOCATION:Union Ave Fergus Falls
UID:e.314.57232
SEQUENCE:3
DTSTAMP:20260422T124247Z
URL:https://business.fergusfalls.com/events/details/dairyland-opens-57232
END:VEVENT

END:VCALENDAR
