BEGIN:VCALENDAR
VERSION:2.0
PRODID:-//ChamberMaster//Event Calendar 2.0//EN
METHOD:PUBLISH
X-PUBLISHED-TTL:P3D
REFRESH-INTERVAL:P3D
CALSCALE:GREGORIAN
BEGIN:VEVENT
DTSTART:20180401T160000Z
DTEND:20180402T010000Z
X-MICROSOFT-CDO-ALLDAYEVENT:FALSE
SUMMARY:Dakota Magic Casino's Easter Buffet
DESCRIPTION:Carved Ham\, Stuffing\, Sweet Potatoes\, Baked Chicken\, Roast Beef\, Mom's Green Bean Casserole\, and Spaghetti Squash!\n\n\n\nBuffet Price: $21.95
X-ALT-DESC;FMTTYPE=text/html:<span class="_4n-j _3cht fsl" data-testid="event-permalink-details">Carved Ham\, Stuffing\, Sweet Potatoes\, Baked Chicken\, Roast Beef\, Mom&#39\;s Green Bean Casserole\, and Spaghetti Squash!<br />\n<br />\nBuffet Price: $21.95</span>
LOCATION:Dakota Magic Casino & Hotel I-29 Exit 1 in North Dakota\, Hakinson North Dakota
UID:e.314.44979
SEQUENCE:3
DTSTAMP:20260423T235120Z
URL:https://business.fergusfalls.com/events/details/dakota-magic-casino-s-easter-buffet-44979
END:VEVENT

END:VCALENDAR
