BEGIN:VCALENDAR
VERSION:2.0
PRODID:-//ChamberMaster//Event Calendar 2.0//EN
METHOD:PUBLISH
X-PUBLISHED-TTL:P3D
REFRESH-INTERVAL:P3D
CALSCALE:GREGORIAN
BEGIN:VEVENT
DTSTART:20161223T220000Z
DTEND:20161224T060000Z
X-MICROSOFT-CDO-ALLDAYEVENT:FALSE
SUMMARY:Dance at VFW
DESCRIPTION:Good Country Music\n\nCome on in to the VFW! It will be time to dance and warm up!
X-ALT-DESC;FMTTYPE=text/html:Good Country Music<br />\n<span style="color: rgb(136\, 136\, 136)\; text-transform: none\; text-indent: 0px\; letter-spacing: normal\; font-family: Oswald\, Arial\; font-size: 18.66px\; font-style: normal\; font-weight: 300\; word-spacing: 0px\; float: none\; display: inline !important\; white-space: normal\; orphans: 2\; widows: 2\; background-color: rgba(255\, 255\, 255\, 0.74902)\; font-variant-ligatures: normal\; font-variant-caps: normal\; -webkit-text-stroke-width: 0px\;">Come on in to the VFW! It will be time to dance and warm up!</span>
LOCATION:420 E Washington Ave\, Fergus Falls
UID:e.314.37256
SEQUENCE:3
DTSTAMP:20260425T034532Z
URL:https://business.fergusfalls.com/events/details/dance-at-vfw-37256
END:VEVENT

END:VCALENDAR
