BEGIN:VCALENDAR
VERSION:2.0
PRODID:-//ChamberMaster//Event Calendar 2.0//EN
METHOD:PUBLISH
X-PUBLISHED-TTL:P3D
REFRESH-INTERVAL:P3D
CALSCALE:GREGORIAN
BEGIN:VEVENT
DTSTART:20181201T200000Z
DTEND:20181201T220000Z
X-MICROSOFT-CDO-ALLDAYEVENT:FALSE
SUMMARY:Dance & Dessert\, December 1 & 2 @ 2pm
DESCRIPTION:Dance & Dessert - Saturday & Sunday\n\nDecember 1 &  2pm\n\n\n\nJOIN US for a delightful performance of dance followed by a sweet treat at the Senior Center across the street! Dance & Dessert is in it's 24th season featuring auditioned dancers from the Fergus Falls School of Dance. One of the hallmarks is the program variety with beautiful ballet pieces\, several modern works and upbeat jazz & hip-hop dance numbers. It's the Perfect Way to LEAP into the Holiday Season!\n\n\n\nThis show is approximately 90 minutes long with no intermission.\n\n\n\nTickets are selling fast! $18 Adults / $8 Students
X-ALT-DESC;FMTTYPE=text/html:<span>Dance &amp\; Dessert - Saturday &amp\; Sunday<br />\nDecember 1 &amp\;&nbsp\; 2pm<br />\n<br />\nJOIN US for a delightful performance of dance followed by a sweet treat at the Senior Center across the street! Dance &amp\; Dessert is in it&#39\;s 24th season featuring auditioned dancers from the Fergus Falls School of Dance. One of the hallmarks is the program variety with beautiful ballet pieces\, several modern works and upbeat jazz &amp\; hip-hop dance numbers. It&#39\;s the Perfect Way to LEAP into the Holiday Season!<br />\n<br />\nThis show is approximately 90 minutes long with no intermission.<br />\n<br />\nTickets are selling fast! $18 Adults / $8 Students</span>
LOCATION:A Center for the Arts 124 W Lincoln Ave Fergus Falls MN
UID:e.314.51688
SEQUENCE:3
DTSTAMP:20260423T122030Z
URL:https://business.fergusfalls.com/events/details/dance-dessert-december-1-2-2pm-51688
END:VEVENT

END:VCALENDAR
