BEGIN:VCALENDAR
VERSION:2.0
PRODID:-//ChamberMaster//Event Calendar 2.0//EN
METHOD:PUBLISH
X-PUBLISHED-TTL:P3D
REFRESH-INTERVAL:P3D
CALSCALE:GREGORIAN
BEGIN:VEVENT
DTSTART:20180203T210000Z
DTEND:20180203T220000Z
X-MICROSOFT-CDO-ALLDAYEVENT:FALSE
SUMMARY:Dancin' in a Winter Wonderland
DESCRIPTION:Join us in becoming part of the Nelken-Line phenomenon! Proposed by the Pina Bausch Foundation\, This flashmob style event has been done all over world. ANYBODY can learn and join this dance line! "Meet at the Lake Alice warming house to learn the dance in 15 minutes\, then we will walk/dance through the beautiful winter scenery in Fergus Falls. Following the dance line\, head down to the Kaddatz Gallery's Studio K to warm up with some hot refreshments and join us for a viewing of "PINA"\, a documentary of the legendary choreographer and artist Pina Bausch."
X-ALT-DESC;FMTTYPE=text/html:Join us in becoming part of the Nelken-Line phenomenon! Proposed by the Pina Bausch Foundation\, This flashmob style event has been done all over world. ANYBODY can learn and join this dance line! &quot\;Meet at the Lake Alice warming house to learn the dance in 15 minutes\, then we will walk/dance through the beautiful winter scenery in Fergus Falls. Following the dance line\, head down to the Kaddatz Gallery&#39\;s Studio K to warm up with some hot refreshments and join us for a viewing of &quot\;PINA&quot\;\, a documentary of the legendary choreographer and artist Pina Bausch.&quot\;
LOCATION:Lake Alice Skating Rink
UID:e.314.43633
SEQUENCE:3
DTSTAMP:20260424T042802Z
URL:https://business.fergusfalls.com/events/details/dancin-in-a-winter-wonderland-43633
END:VEVENT

END:VCALENDAR
