BEGIN:VCALENDAR
VERSION:2.0
PRODID:-//ChamberMaster//Event Calendar 2.0//EN
METHOD:PUBLISH
X-PUBLISHED-TTL:P3D
REFRESH-INTERVAL:P3D
CALSCALE:GREGORIAN
BEGIN:VEVENT
DTSTART:20160625T000000Z
DTEND:20160625T040000Z
X-MICROSOFT-CDO-ALLDAYEVENT:FALSE
SUMMARY:Daniel and the Real Feels\, Amanda Standalone\, 33 1/3 Revolutionaries
DESCRIPTION:In celebration of the Arts Resource Fair on June 25th\, the Lake Region Arts Council is hosting a special night of music at The Spot. Three acts will wow us with their exceptional talent. They are:\n\n\n\nAmanda Standalone - Georgetown\, MN\n\n33 1/3 Revolutionaries - Moorhead\, MN\n\nDaniel and the Real Feels - Moorhead\, MN\n\n\n\nWe hope to see you all there!
X-ALT-DESC;FMTTYPE=text/html:<span style="color: rgb(75\, 79\, 86)\; font-family: helvetica\, arial\, sans-serif\; font-size: 14px\; line-height: 18.76px\;">In celebration of the Arts Resource Fair on June 25th\, the Lake Region Arts Council is hosting a special night of music at The Spot. Three acts will wow us with their exceptional talent. They are:</span><br style="color: rgb(75\, 79\, 86)\; font-family: helvetica\, arial\, sans-serif\; font-size: 14px\; line-height: 18.76px\;" />\n<br style="color: rgb(75\, 79\, 86)\; font-family: helvetica\, arial\, sans-serif\; font-size: 14px\; line-height: 18.76px\;" />\n<span style="color: rgb(75\, 79\, 86)\; font-family: helvetica\, arial\, sans-serif\; font-size: 14px\; line-height: 18.76px\;">Amanda Standalone - Georgetown\, MN</span><br style="color: rgb(75\, 79\, 86)\; font-family: helvetica\, arial\, sans-serif\; font-size: 14px\; line-height: 18.76px\;" />\n<span style="color: rgb(75\, 79\, 86)\; font-family: helvetica\, arial\, sans-serif\; font-size: 14px\; line-height: 18.76px\;">33 1/3 Revolutionaries - Moorhead\, MN</span><br style="color: rgb(75\, 79\, 86)\; font-family: helvetica\, arial\, sans-serif\; font-size: 14px\; line-height: 18.76px\;" />\n<span style="color: rgb(75\, 79\, 86)\; font-family: helvetica\, arial\, sans-serif\; font-size: 14px\; line-height: 18.76px\;">Daniel and the Real Feels - Moorhead\, MN</span><br style="color: rgb(75\, 79\, 86)\; font-family: helvetica\, arial\, sans-serif\; font-size: 14px\; line-height: 18.76px\;" />\n<br style="color: rgb(75\, 79\, 86)\; font-family: helvetica\, arial\, sans-serif\; font-size: 14px\; line-height: 18.76px\;" />\n<span style="color: rgb(75\, 79\, 86)\; font-family: helvetica\, arial\, sans-serif\; font-size: 14px\; line-height: 18.76px\;">We hope to see you all there!</span>
LOCATION:The Spot Panini & Wine\, 220 West Lincoln Avenue\, Fergus Falls
UID:e.314.32905
SEQUENCE:3
DTSTAMP:20260425T125726Z
URL:https://business.fergusfalls.com/events/details/daniel-and-the-real-feels-amanda-standalone-33-1-3-revolutionaries-06-24-2016-32905
END:VEVENT

END:VCALENDAR
