BEGIN:VCALENDAR
VERSION:2.0
PRODID:-//ChamberMaster//Event Calendar 2.0//EN
METHOD:PUBLISH
X-PUBLISHED-TTL:P3D
REFRESH-INTERVAL:P3D
CALSCALE:GREGORIAN
BEGIN:VEVENT
DTSTART:20190217T020000Z
DTEND:20190217T054000Z
X-MICROSOFT-CDO-ALLDAYEVENT:FALSE
SUMMARY:Danse Macabre
DESCRIPTION:BE ONE OF US!\n\n\n\n*Click event image for info*\n\n\n\nDanse Macabre is a monthly alternative dance night\, hosted at The Spot\, in downtown Fergus Falls\, MN.\n\n\n\nGreetings boils and ghouls! Frankenlegs and Slice Launcher will be your DJs for the evening.\n\n\n\nNO COVER\n\n\n\n8pm-close (11pm or midnight).
X-ALT-DESC;FMTTYPE=text/html:<span>BE ONE OF US!<br />\n<br />\n*Click event image for info*<br />\n<br />\nDanse Macabre is a monthly alternative dance night\, hosted at The Spot\, in downtown Fergus Falls\, MN.<br />\n<br />\nGreetings boils and ghouls! Frankenlegs and Slice Launcher will be your DJs for the evening.<br />\n<br />\nNO COVER<br />\n<br />\n8pm-close (11pm or midnight). </span>
LOCATION:The Spot 220 W Lincoln Ave Fergus Falls
UID:e.314.52475
SEQUENCE:3
DTSTAMP:20260423T092027Z
URL:https://business.fergusfalls.com/events/details/danse-macabre-52475
END:VEVENT

END:VCALENDAR
