BEGIN:VCALENDAR
VERSION:2.0
PRODID:-//ChamberMaster//Event Calendar 2.0//EN
METHOD:PUBLISH
X-PUBLISHED-TTL:P3D
REFRESH-INTERVAL:P3D
CALSCALE:GREGORIAN
BEGIN:VEVENT
DTSTART:20160602T190000Z
DTEND:20160602T210000Z
X-MICROSOFT-CDO-ALLDAYEVENT:FALSE
SUMMARY:Dave Ellis Retirement Celebration
DESCRIPTION:We invite you to join us for this special occasion as Dave Ellis celebrates his retirement. RSVP to 218-998-4480.\n\n\n\nIf you would like to contribute towards a gift or send a memory\, contact Sue McDonald at sue_mcdonald@fws.gov
X-ALT-DESC;FMTTYPE=text/html:We invite you to join us for this special occasion as Dave Ellis celebrates his retirement. RSVP to 218-998-4480.<br />\n<br />\nIf you would like to contribute towards a gift or send a memory\, contact Sue McDonald at sue_mcdonald@fws.gov
LOCATION:Prairie Wetlands Learning Center\, 602 MN-210\, Fergus Falls\, MN 56537
UID:e.314.32768
SEQUENCE:3
DTSTAMP:20260425T125544Z
URL:https://business.fergusfalls.com/events/details/dave-ellis-retirement-celebration-06-02-2016-32768
END:VEVENT

END:VCALENDAR
