BEGIN:VCALENDAR
VERSION:2.0
PRODID:-//ChamberMaster//Event Calendar 2.0//EN
METHOD:PUBLISH
X-PUBLISHED-TTL:P3D
REFRESH-INTERVAL:P3D
CALSCALE:GREGORIAN
BEGIN:VEVENT
DTSTART:20160614T130000Z
DTEND:20160614T170000Z
X-MICROSOFT-CDO-ALLDAYEVENT:FALSE
SUMMARY:Day of Caring
DESCRIPTION:On June 14th\, United Way will bring volunteers together to do outdoor projects for the community and non-profit organizations in the Fergus Falls area. This event will run from 8am - noon\, and projects will include planting gardens\, landscaping\, spring cleanup\, painting\, washing window and more! If you would like to make a difference in your community and volunteer for this great community event\, go to https://docs.google.com/forms/d/1bETEcsFlGlEbPxWvM9N8igEA1tsCiJWBt1HnhSaEpiQ/viewform?usp=send_form to register. Lunch will be provided after the event.
X-ALT-DESC;FMTTYPE=text/html:<span class="_fbReactionComponent__eventDetailsContent fsl">On June 14th\, United Way will bring volunteers together to do outdoor projects for the community and non-profit organizations in the Fergus Falls area. This event will run from 8am - noon\, and projects will include planting gardens\, landscaping\, spring cleanup\, painting\, washing window and more! If you would like to make a difference in your community and volunteer for this great community event\, go to <a href="https://l.facebook.com/?u=https%3A%2F%2Fdocs.google.com%2Fforms%2Fd%2F1bETEcsFlGlEbPxWvM9N8igEA1tsCiJWBt1HnhSaEpiQ%2Fviewform%3Fusp%3Dsend_form&amp\;e=ATOutmqVVw07Us2vM29jbabFA7tgY1TJ0VVCJ8epCMO3oGO1KOzoSDNeQ58Ihg" rel="nofollow" target="_blank"><font color="#0066cc"><span>https://docs.google.com/</span><wbr /><span>forms/d/</span><wbr /><span>1bETEcsFlGlEbPxWvM9N8igEA1t</span><wbr /><span>sCiJWBt1HnhSaEpiQ</span><span>/</span><wbr /></font><font color="#0066cc">viewform?usp=send_form</font></a> to register. Lunch will be provided after the event.</span>
LOCATION:United Way of Otter Tail County\, MN 120 E Washington Ave\, Fergus Falls\, Minnesota 56537
UID:e.314.32382
SEQUENCE:3
DTSTAMP:20260425T145311Z
URL:https://business.fergusfalls.com/events/details/day-of-caring-06-14-2016-32382
END:VEVENT

END:VCALENDAR
