BEGIN:VCALENDAR
VERSION:2.0
PRODID:-//ChamberMaster//Event Calendar 2.0//EN
METHOD:PUBLISH
X-PUBLISHED-TTL:P3D
REFRESH-INTERVAL:P3D
CALSCALE:GREGORIAN
BEGIN:VEVENT
DTSTART;VALUE=DATE:20151101
DTEND;VALUE=DATE:20151102
TRANSP:TRANSPARENT
X-MICROSOFT-CDO-ALLDAYEVENT:TRUE
SUMMARY:DAYLIGHT SAVING TIME ENDS
DESCRIPTION:Daylight Saving Time Ends\n\nRemember to set your clocks back one hour!
X-ALT-DESC;FMTTYPE=text/html:<strong>Daylight Saving Time Ends<br />\nRemember to set your clocks back one hour! </strong>
LOCATION:
UID:e.314.25907
SEQUENCE:3
DTSTAMP:20260426T024916Z
URL:https://business.fergusfalls.com/events/details/daylight-saving-time-ends-11-01-2015-25907
END:VEVENT

END:VCALENDAR
