BEGIN:VCALENDAR
VERSION:2.0
PRODID:-//ChamberMaster//Event Calendar 2.0//EN
METHOD:PUBLISH
X-PUBLISHED-TTL:P3D
REFRESH-INTERVAL:P3D
CALSCALE:GREGORIAN
BEGIN:VEVENT
DTSTART;VALUE=DATE:20180311
DTEND;VALUE=DATE:20180312
TRANSP:TRANSPARENT
X-MICROSOFT-CDO-ALLDAYEVENT:TRUE
SUMMARY:Daylight Savings
DESCRIPTION:Mar 11\, 2018 - Daylight Saving Time Starts. When local standard time is about to reach. Sunday\, March 11\, 2018\, 2:00:00 am clocks are turned forward 1 hour to.
X-ALT-DESC;FMTTYPE=text/html:<strong><font color="#6a6a6a" size="2">Mar 11\, 2018</font></strong><span style="text-align: left\; color: rgb(84\, 84\, 84)\; text-transform: none\; text-indent: 0px\; letter-spacing: normal\; font-family: Roboto\, arial\, sans-serif\; font-size: small\; font-style: normal\; font-weight: 400\; word-spacing: 0px\; float: none\; display: inline !important\; white-space: normal\; orphans: 2\; widows: 2\; background-color: rgb(255\, 255\, 255)\; font-variant-ligatures: normal\; font-variant-caps: normal\; -webkit-text-stroke-width: 0px\; text-decoration-style: initial\; text-decoration-color: initial\;"><span>&nbsp\;</span>- Daylight Saving Time Starts.</span><wbr style="text-align: left\; color: rgb(84\, 84\, 84)\; text-transform: none\; text-indent: 0px\; letter-spacing: normal\; font-family: Roboto\, arial\, sans-serif\; font-size: small\; font-style: normal\; font-weight: 400\; word-spacing: 0px\; white-space: normal\; orphans: 2\; widows: 2\; background-color: rgb(255\, 255\, 255)\; font-variant-ligatures: normal\; font-variant-caps: normal\; -webkit-text-stroke-width: 0px\; text-decoration-style: initial\; text-decoration-color: initial\;" /><span style="text-align: left\; color: rgb(84\, 84\, 84)\; text-transform: none\; text-indent: 0px\; letter-spacing: normal\; font-family: Roboto\, arial\, sans-serif\; font-size: small\; font-style: normal\; font-weight: 400\; word-spacing: 0px\; float: none\; display: inline !important\; white-space: normal\; orphans: 2\; widows: 2\; background-color: rgb(255\, 255\, 255)\; font-variant-ligatures: normal\; font-variant-caps: normal\; -webkit-text-stroke-width: 0px\; text-decoration-style: initial\; text-decoration-color: initial\;"><span>&nbsp\;</span>When local standard time is about to reach.</span><wbr style="text-align: left\; color: rgb(84\, 84\, 84)\; text-transform: none\; text-indent: 0px\; letter-spacing: normal\; font-family: Roboto\, arial\, sans-serif\; font-size: small\; font-style: normal\; font-weight: 400\; word-spacing: 0px\; white-space: normal\; orphans: 2\; widows: 2\; background-color: rgb(255\, 255\, 255)\; font-variant-ligatures: normal\; font-variant-caps: normal\; -webkit-text-stroke-width: 0px\; text-decoration-style: initial\; text-decoration-color: initial\;" /><span style="text-align: left\; color: rgb(84\, 84\, 84)\; text-transform: none\; text-indent: 0px\; letter-spacing: normal\; font-family: Roboto\, arial\, sans-serif\; font-size: small\; font-style: normal\; font-weight: 400\; word-spacing: 0px\; float: none\; display: inline !important\; white-space: normal\; orphans: 2\; widows: 2\; background-color: rgb(255\, 255\, 255)\; font-variant-ligatures: normal\; font-variant-caps: normal\; -webkit-text-stroke-width: 0px\; text-decoration-style: initial\; text-decoration-color: initial\;"><span>&nbsp\;</span>Sunday\,<span>&nbsp\;</span></span><em style="text-align: left\; color: rgb(106\, 106\, 106)\; text-transform: none\; text-indent: 0px\; letter-spacing: normal\; font-family: Roboto\, arial\, sans-serif\; font-size: small\; font-style: normal\; font-weight: bold\; word-spacing: 0px\; white-space: normal\; orphans: 2\; widows: 2\; background-color: rgb(255\, 255\, 255)\; font-variant-ligatures: normal\; font-variant-caps: normal\; -webkit-text-stroke-width: 0px\; text-decoration-style: initial\; text-decoration-color: initial\;">March 11\, 2018</em><span style="text-align: left\; color: rgb(84\, 84\, 84)\; text-transform: none\; text-indent: 0px\; letter-spacing: normal\; font-family: Roboto\, arial\, sans-serif\; font-size: small\; font-style: normal\; font-weight: 400\; word-spacing: 0px\; float: none\; display: inline !important\; white-space: normal\; orphans: 2\; widows: 2\; background-color: rgb(255\, 255\, 255)\; font-variant-ligatures: normal\; font-variant-caps: normal\; -webkit-text-stroke-width: 0px\; text-decoration-style: initial\; text-decoration-color: initial\;">\, 2:00:00 am clocks are turned forward 1 hour to.</span>
LOCATION:
UID:e.314.43925
SEQUENCE:3
DTSTAMP:20260424T012058Z
URL:https://business.fergusfalls.com/events/details/daylight-savings-43925
END:VEVENT

END:VCALENDAR
