BEGIN:VCALENDAR
VERSION:2.0
PRODID:-//ChamberMaster//Event Calendar 2.0//EN
METHOD:PUBLISH
X-PUBLISHED-TTL:P3D
REFRESH-INTERVAL:P3D
CALSCALE:GREGORIAN
BEGIN:VEVENT
DTSTART;VALUE=DATE:20190310
DTEND;VALUE=DATE:20190311
TRANSP:TRANSPARENT
X-MICROSOFT-CDO-ALLDAYEVENT:TRUE
SUMMARY:Daylight Savings Begins
DESCRIPTION:Mar 10\, 2019 - Daylight Saving Time Starts. When local standard time is about to reach Sunday\, March 10\, 2019\, 2:00:00 am clocks are turned forward 1 hour to Sunday\, March 10\, 2019\, 3:00:00 am local daylight time instead. Sunrise and sunset will be about 1 hour later on Mar 10\, 2019 than the day before.
X-ALT-DESC;FMTTYPE=text/html:Mar 10\, <strong>2019</strong> - <strong>Daylight Saving</strong> Time Starts. When local standard time is about to reach Sunday\, March 10\, <strong>2019</strong>\, 2:00:00 am clocks are turned forward 1 hour to Sunday\, March 10\, <strong>2019</strong>\, 3:00:00 am local <strong>daylight</strong> time instead. Sunrise and sunset will be about 1 hour later on Mar 10\, <strong>2019</strong> than the day before.
LOCATION:
UID:e.314.52645
SEQUENCE:3
DTSTAMP:20260423T075333Z
URL:https://business.fergusfalls.com/events/details/daylight-savings-begins-52645
END:VEVENT

END:VCALENDAR
