BEGIN:VCALENDAR
VERSION:2.0
PRODID:-//ChamberMaster//Event Calendar 2.0//EN
METHOD:PUBLISH
X-PUBLISHED-TTL:P3D
REFRESH-INTERVAL:P3D
CALSCALE:GREGORIAN
BEGIN:VEVENT
DTSTART;VALUE=DATE:20191102
DTEND;VALUE=DATE:20191104
TRANSP:TRANSPARENT
X-MICROSOFT-CDO-ALLDAYEVENT:TRUE
SUMMARY:Daylight Savings Ends
DESCRIPTION:Daylight Saving Time 2019\n\n\n	\n	began Sunday\, March 10\n	\n	\n	ends Sunday\, November 3
X-ALT-DESC;FMTTYPE=text/html:<div aria-level="2" class="b_focusLabel" role="heading">Daylight Saving Time 2019</div>\n\n<ul class="b_vList">\n	<li>\n	<div class="b_focusTextSmall">began Sunday\, March 10</div>\n	</li>\n	<li>\n	<div class="b_focusTextSmall">ends Sunday\, November 3</div>\n	</li>\n</ul>\n
LOCATION:
UID:e.314.55788
SEQUENCE:3
DTSTAMP:20260422T200641Z
URL:https://business.fergusfalls.com/events/details/daylight-savings-ends-55788
END:VEVENT

END:VCALENDAR
