BEGIN:VCALENDAR
VERSION:2.0
PRODID:-//ChamberMaster//Event Calendar 2.0//EN
METHOD:PUBLISH
X-PUBLISHED-TTL:P3D
REFRESH-INTERVAL:P3D
CALSCALE:GREGORIAN
BEGIN:VEVENT
DTSTART:20180505T150000Z
DTEND:20180505T190000Z
X-MICROSOFT-CDO-ALLDAYEVENT:FALSE
SUMMARY:DECK DAY at Home Depot
DESCRIPTION:Deck Day at Home Depot in Fergus Falls \n\nMay 5th  10am-2pm\n\n\n\n11:00 am Behr Paint Representatives will have a seminar on the things of BEHR.  Bring your questions regarding the exterior of your HOME\, DECK\, GARAGE FLOOR\, TRIM WORK\, interior WALLS\, and FLOORS...\n\n\n\nThere will be drawings for the following gifts:\n\n	GRAND PRIZE:  Wagner Control Stainer 350 ($99.00)\n	1st PRIZE: Behr duffel bag with a hat and Tshirt\n	2nd PRIZE: 3M gift bag with assorted products\n\nFREE Popcorn and to celebrate Cinco de Mayo\, tacos in a bag 12noon-1pm
X-ALT-DESC;FMTTYPE=text/html:<strong>Deck Day at Home Depot in Fergus Falls </strong><br />\nMay 5th&nbsp\; 10am-2pm<br />\n<br />\n11:00 am Behr Paint Representatives will have a seminar on the things of BEHR.&nbsp\; Bring your questions regarding the exterior of your HOME\, DECK\, GARAGE FLOOR\, TRIM WORK\, interior WALLS\, and FLOORS...<br />\n<br />\nThere will be drawings for the following gifts:\n<ul>\n	<li>GRAND PRIZE:&nbsp\; Wagner Control Stainer 350 ($99.00)</li>\n	<li>1st PRIZE: Behr duffel bag with a hat and Tshirt</li>\n	<li>2nd PRIZE: 3M gift bag with assorted products</li>\n</ul>\nFREE Popcorn and to celebrate Cinco de Mayo\, tacos in a bag 12noon-1pm<br />\n&nbsp\;
LOCATION:Home Depot Fergus Falls 2025 Lincoln Avenue West Fergus Falls
UID:e.314.47722
SEQUENCE:3
DTSTAMP:20260423T224657Z
URL:https://business.fergusfalls.com/events/details/deck-day-at-home-depot-47722
END:VEVENT

END:VCALENDAR
