BEGIN:VCALENDAR
VERSION:2.0
PRODID:-//ChamberMaster//Event Calendar 2.0//EN
METHOD:PUBLISH
X-PUBLISHED-TTL:P3D
REFRESH-INTERVAL:P3D
CALSCALE:GREGORIAN
BEGIN:VEVENT
DTSTART:20180621T220000Z
DTEND:20180622T000000Z
X-MICROSOFT-CDO-ALLDAYEVENT:FALSE
SUMMARY:Def Leppard/Journey Ticket Qualifier
DESCRIPTION:Join Miles Riker and ROCK OUT with Z103 on the Patio at Social's Bar and Grill. Be sure to register for your chance to get a ticket to our Def Leppard/Journey Qualifier Party! Z103 and Socials want to send you and 3 friends to ROCK OUT.\n\n\n\nStop in to register for a chance to qualify for tickets and enjoy $3 Morgan drinks\, $2 Chips w/Salsa and Guac and Personal Size Nacho for $7.5.
X-ALT-DESC;FMTTYPE=text/html:<div class="_63ew" data-testid="event-permalink-details"><span>Join Miles Riker and ROCK OUT with Z103 on the Patio at Social&#39\;s Bar and Grill. Be sure to register for your chance to get a ticket to our Def Leppard/Journey Qualifier Party! Z103 and Socials want to send you and 3 friends to ROCK OUT.<br />\n<br />\nStop in to register for a chance to qualify for tickets and enjoy $3 Morgan drinks\, $2 Chips w/Salsa and Guac and Personal Size Nacho for $7.5.</span></div>\n
LOCATION:Socials Bar & Grill
UID:e.314.49988
SEQUENCE:3
DTSTAMP:20260423T223201Z
URL:https://business.fergusfalls.com/events/details/def-leppard-journey-ticket-qualifier-49988
END:VEVENT

END:VCALENDAR
