BEGIN:VCALENDAR
VERSION:2.0
PRODID:-//ChamberMaster//Event Calendar 2.0//EN
METHOD:PUBLISH
X-PUBLISHED-TTL:P3D
REFRESH-INTERVAL:P3D
CALSCALE:GREGORIAN
BEGIN:VEVENT
DTSTART:20200118T183000Z
DTEND:20200119T020000Z
X-MICROSOFT-CDO-ALLDAYEVENT:FALSE
SUMMARY:DEFEND
DESCRIPTION:The heart behind DEFEND is for young men to know their unique and inherent value\, experience thriving relationships\, and a purpose and vision for their future.
X-ALT-DESC;FMTTYPE=text/html:The heart behind DEFEND is for young men to know their unique and inherent value\, experience thriving relationships\, and a purpose and vision for their future.
LOCATION:629 E Channing Ave Fergus Falls\, MN 56537
UID:e.314.56020
SEQUENCE:3
DTSTAMP:20260422T171553Z
URL:https://business.fergusfalls.com/events/details/defend-56020
END:VEVENT

END:VCALENDAR
