BEGIN:VCALENDAR
VERSION:2.0
PRODID:-//ChamberMaster//Event Calendar 2.0//EN
METHOD:PUBLISH
X-PUBLISHED-TTL:P3D
REFRESH-INTERVAL:P3D
CALSCALE:GREGORIAN
BEGIN:VEVENT
DTSTART:20200125T183000Z
DTEND:20200126T020000Z
X-MICROSOFT-CDO-ALLDAYEVENT:FALSE
SUMMARY:Define For Girls
DESCRIPTION:Define is a day conference for girls in grades 8-12 that's all about relationships! For more info visit www.defineforgirls.com
X-ALT-DESC;FMTTYPE=text/html:Define is a day conference for girls in grades 8-12 that&#39\;s all about relationships! For more info visit www.defineforgirls.com
LOCATION:1319 N. Cleveland Ave. Fergus Falls MN
UID:e.314.56179
SEQUENCE:3
DTSTAMP:20260422T172146Z
URL:https://business.fergusfalls.com/events/details/define-for-girls-01-25-2020-56179
END:VEVENT

END:VCALENDAR
