BEGIN:VCALENDAR
VERSION:2.0
PRODID:-//ChamberMaster//Event Calendar 2.0//EN
METHOD:PUBLISH
X-PUBLISHED-TTL:P3D
REFRESH-INTERVAL:P3D
CALSCALE:GREGORIAN
BEGIN:VEVENT
DTSTART:20150924T224500Z
DTEND:20150925T000000Z
X-MICROSOFT-CDO-ALLDAYEVENT:FALSE
SUMMARY:DETOX YOUR LIFE
DESCRIPTION:DETOX YOUR LIFE \n\nDaily tasks consuming all your energy?\n\n\n\nToxic relationships or environments taking over?\n\n\n\nAnxiety\, depression\, or frustration creeping in?\n\n\n\n         A Unique Workshop Series on \n\n              How to Detox Your Life \n\n              *Radiate Fresh Energy*\n\n                   Live in Harmony\n\n\n\n      Location: Lake Region Healthcare\n\n                     Lower Level\n\n\n\n\n\n\n\n*CEU Objectives\n\nUsing breathing techniques\, holistic energetic healing techniques\, and cognitive therapy:\n\n\n\n \n(1)Learn how to rid yourself of toxic energy you take on from patients\, co-workers\, &/or medical field environment\; \n\n(2) Learn how to shift an unhealthy work relationship into one of cooperation & harmony \n\n(3)Learn how to prevent & diffuse anxiety. \n\n\nWendy Billie walked the medical field path as an Occupational Therapist and rose to success as a leadership development professional & executive coach at Pfizer. After 15 years on this path\, she ventured to India andNepal where she studied Eastern Healing principles & yoga. She now resides in Ottertail\, MN & travels globally teaching. Her life mission is to help people heal and live authentic lives and she recently created a Natural Energy product line called: Be You naturally. Locally\, Wendy lives a passion filled life leading workshops\, yoga healing retreats\, teaching group yoga classes\, and conducting private energy healing sessions. She loves to walk in the woods with her dog\, beat on her drum\, and relax with a good movie or book. You can find her full bio at www.wendybillie.com
X-ALT-DESC;FMTTYPE=text/html:<span style="color: rgb(0\, 0\, 255)\;"><span style="font-size: 26px\;"><strong><span style="text-transform: none\; letter-spacing: 0.4pt\; font-family: &quot\;Tw Cen MT&quot\;\; font-variant: normal\; font-weight: bold\; vertical-align: baseline\; mso-ascii-font-family: &quot\;Tw Cen MT&quot\;\; mso-fareast-font-family: +mj-ea\; mso-bidi-font-family: +mj-cs\; mso-ascii-theme-font: major-latin\; mso-fareast-theme-font: major-fareast\; mso-bidi-theme-font: major-bidi\; mso-color-index: 1\; mso-font-kerning: 12.0pt\; language: en-US\; mso-text-raise: 0%\; mso-effects-shadow-color: black\; mso-effects-shadow-alpha: 43.0%\; mso-effects-shadow-dpiradius: 3.0pt\; mso-effects-shadow-angledirection: 2700000\; mso-effects-shadow-dpidistance: 3.0pt\; mso-effects-shadow-pctsx: 100.0%\; mso-effects-shadow-pctsy: 100.0%\; mso-effects-shadow-anglekx: 0\; mso-effects-shadow-angleky: 0\; mso-effects-shadow-align: topleft\; mso-style-textoutline-type: solid\; mso-style-textoutline-fill-themecolor: accent1\; mso-style-textoutline-fill-color: #016296\; mso-style-textoutline-fill-alpha: 100.0%\; mso-style-textoutline-outlinestyle-dash: solid\; mso-style-textoutline-outlinestyle-join: round\; mso-style-textoutline-outlinestyle-dpiwidth: 1.05pt\; mso-style-textoutline-outlinestyle-linecap: flat\; mso-style-textoutline-outlinestyle-compound: simple\; mso-style-textoutline-outlinestyle-align: center\; mso-style-textfill-type: solid\; mso-style-textfill-fill-themecolor: text1\; mso-style-textfill-fill-color: white\; mso-style-textfill-fill-alpha: 100.0%\;">DETOX YOUR LIFE </span></strong></span></span><br />\n<span style="font-size: 12px\;"><span style="color: rgb(0\, 0\, 0)\;"><strong><span style="language: en-US\;"><span style="font-family: tw cen mt\;">Daily tasks consuming all your </span></span><span style="language: en-US\;"><span style="font-family: tw cen mt\;">energy?</span></span><br />\n<br />\n<span style="language: en-US\;"><span style="font-family: tw cen mt\;">Toxic </span></span><span style="language: en-US\;"><span style="font-family: tw cen mt\;">relationships or </span></span><span style="language: en-US\;"><span style="font-family: tw cen mt\;">environments taking</span></span> <span style="language: en-US\;"><span style="font-family: tw cen mt\;">over?</span></span><br />\n<br />\n<span style="language: en-US\;"><span style="font-family: tw cen mt\;">Anxiety</span></span><span style="language: en-US\;"><span style="font-family: tw cen mt\;">\, </span></span><span style="language: en-US\;"><span style="font-family: tw cen mt\;">depression\, </span></span><span style="language: en-US\;"><span style="font-family: tw cen mt\;">or </span></span><span style="language: en-US\;"><span style="font-family: tw cen mt\;">frustration creeping </span></span><span style="language: en-US\;"><span style="font-family: tw cen mt\;">in?</span></span><br />\n<br />\n&nbsp\;&nbsp\;&nbsp\;&nbsp\;&nbsp\;&nbsp\;&nbsp\;&nbsp\; <span style="font-weight: bold\; language: en-US\;"><span style="font-family: tw cen mt\;">A Unique Workshop Series on </span></span><br />\n<span style="font-weight: bold\; language: en-US\;"><span style="font-family: tw cen mt\;">&nbsp\;&nbsp\;&nbsp\;&nbsp\;&nbsp\;&nbsp\;&nbsp\;&nbsp\;&nbsp\;&nbsp\;&nbsp\;&nbsp\;&nbsp\; How to Detox Your Life </span></span><br />\n<span style="font-weight: bold\; language: en-US\;"><span style="font-family: tw cen mt\;">&nbsp\;&nbsp\;&nbsp\;&nbsp\;&nbsp\;&nbsp\;&nbsp\;&nbsp\;&nbsp\;&nbsp\;&nbsp\;&nbsp\;&nbsp\; *Radiate Fresh Energy*</span></span><br />\n&nbsp\;<span style="font-weight: bold\; language: en-US\;"><span style="font-family: tw cen mt\;">&nbsp\;&nbsp\;&nbsp\;&nbsp\;&nbsp\;&nbsp\;&nbsp\;&nbsp\;&nbsp\;&nbsp\;&nbsp\;&nbsp\;&nbsp\;&nbsp\;&nbsp\;&nbsp\;&nbsp\; Live in Harmony</span></span><br />\n<br />\n&nbsp\;&nbsp\;&nbsp\;&nbsp\;&nbsp\; <u style="text-underline: single\;"><span style="language: en-US\;"><span style="font-family: tw cen mt\;">Location</span></span></u>: <span style="language: en-US\;"><span style="font-family: tw cen mt\;">Lake Region </span></span><span style="language: en-US\;"><span style="font-family: tw cen mt\;">Healthcare</span></span><br />\n&nbsp\;&nbsp\;&nbsp\;&nbsp\;&nbsp\;&nbsp\;&nbsp\;&nbsp\;&nbsp\;&nbsp\;&nbsp\;&nbsp\;&nbsp\;&nbsp\;&nbsp\;&nbsp\;&nbsp\;&nbsp\;&nbsp\;&nbsp\; <span style="language: en-US\;"><span style="font-family: tw cen mt\;">Lower Level</span></span></strong></span></span><br />\n<br />\n<br />\n<br />\n<span style="font-size: 14px\;"><span style="font-style: italic\; font-weight: bold\; language: en-US\;"><span style="font-family: tw cen mt\;"><span style="color: white\;">*</span></span></span><span style="font-style: italic\; font-weight: bold\; language: en-US\;"><span style="font-family: tw cen mt\;"><span style="color: rgb(0\, 176\, 240)\;">CEU Objectives</span></span></span><br />\n<span style="font-style: italic\; language: en-US\;"><span style="font-family: tw cen mt\;"><span style="color: rgb(0\, 176\, 240)\;">Using </span></span></span><span style="font-style: italic\; language: en-US\;"><span style="font-family: tw cen mt\;"><span style="color: rgb(0\, 176\, 240)\;">breathing techniques\, holistic energetic healing techniques\, and cognitive therapy</span></span></span><span style="font-style: italic\; language: en-US\;"><span style="font-family: tw cen mt\;"><span style="color: rgb(0\, 176\, 240)\;">:</span></span></span></span><br />\n<br />\n&nbsp\;\n<div style="text-align: left\; text-indent: -0.25in\; margin-top: 0pt\; margin-bottom: 0pt\; margin-left: 0.25in\; unicode-bidi: embed\; direction: ltr\; -ms-word-break: normal\; language: en-US\; punctuation-wrap: hanging\;"><span style="font-size: 14px\;">(1)<span style="font-style: italic\; language: en-US\;"><span style="font-family: tw cen mt\;"><span style="color: rgb(0\, 176\, 240)\;">Learn </span></span></span><span style="font-style: italic\; language: en-US\;"><span style="font-family: tw cen mt\;"><span style="color: rgb(0\, 176\, 240)\;">how to rid yourself of toxic energy </span></span></span><span style="font-style: italic\; language: en-US\;"><span style="font-family: tw cen mt\;"><span style="color: rgb(0\, 176\, 240)\;">you </span></span></span><span style="font-style: italic\; language: en-US\;"><span style="font-family: tw cen mt\;"><span style="color: rgb(0\, 176\, 240)\;">take on from patients\, co-workers\, &amp\;/or medical field </span></span></span><span style="font-style: italic\; language: en-US\;"><span style="font-family: tw cen mt\;"><span style="color: rgb(0\, 176\, 240)\;">environment\; </span></span></span></span></div>\n\n<div style="text-align: left\; text-indent: -0.25in\; margin-top: 0pt\; margin-bottom: 0pt\; margin-left: 0.25in\; unicode-bidi: embed\; direction: ltr\; -ms-word-break: normal\; language: en-US\; punctuation-wrap: hanging\;"><span style="font-size: 14px\;">(2)<span style="font-style: italic\; language: en-US\;"><span style="font-family: tw cen mt\;"><span style="color: rgb(0\, 176\, 240)\;"> Learn </span></span></span><span style="font-style: italic\; language: en-US\;"><span style="font-family: tw cen mt\;"><span style="color: rgb(0\, 176\, 240)\;">how to shift an unhealthy work relationship into one of cooperation &amp\; harmony </span></span></span></span></div>\n\n<div style="text-align: left\; text-indent: -0.25in\; margin-top: 0pt\; margin-bottom: 0pt\; margin-left: 0.25in\; unicode-bidi: embed\; direction: ltr\; -ms-word-break: normal\; language: en-US\; punctuation-wrap: hanging\;"><span style="font-size: 14px\;">(3)<span style="font-style: italic\; language: en-US\;"><span style="font-family: tw cen mt\;"><span style="color: rgb(0\, 176\, 240)\;">Learn </span></span></span><span style="font-style: italic\; language: en-US\;"><span style="font-family: tw cen mt\;"><span style="color: rgb(0\, 176\, 240)\;">how to prevent &amp\; diffuse </span></span></span><span style="font-style: italic\; language: en-US\;"><span style="font-family: tw cen mt\;"><span style="color: rgb(0\, 176\, 240)\;">anxiety. </span></span></span></span></div>\n<br />\n<span style="font-size: 11px\;"><strong><span style="font-family: calibri\;">Wendy Billie walked the medical field path as an Occupational Therapist and rose to success as a leadership development professional &amp\; executive coach at Pfizer. After 15 years on this path\, she ventured to India andNepal where she studied Eastern Healing principles &amp\; yoga. She now resides in Ottertail\, MN &amp\; travels globally teaching. Her life mission is to help people heal and live authentic lives and she recently created a Natural Energy product line called: Be You naturally. Locally\, Wendy lives a passion filled life leading workshops\, yoga healing retreats\, teaching group yoga classes\, and conducting private energy healing sessions. She loves to walk in the woods with her dog\, beat on her drum\, and relax with a good movie or book. You can find her full bio at www.wendybillie.com</span></strong></span><br />\n&nbsp\;
LOCATION:Lake Region Healthcare Lower Level
UID:e.314.24317
SEQUENCE:3
DTSTAMP:20260426T044123Z
URL:https://business.fergusfalls.com/events/details/detox-your-life-09-24-2015-24317
END:VEVENT

END:VCALENDAR
