BEGIN:VCALENDAR
VERSION:2.0
PRODID:-//ChamberMaster//Event Calendar 2.0//EN
METHOD:PUBLISH
X-PUBLISHED-TTL:P3D
REFRESH-INTERVAL:P3D
CALSCALE:GREGORIAN
BEGIN:VEVENT
DTSTART:20180922T233000Z
DTEND:20180923T020000Z
X-MICROSOFT-CDO-ALLDAYEVENT:FALSE
SUMMARY:DEUCES WILD: Dueling Pianos (AC4TA Fundraiser)
DESCRIPTION:DEUCES WILD: Dueling Pianos\n\nOur Fall Fundraising Event\n\nIts a clap along\, sing along musical comedy show where the audience is always a part of the action. And no one does it better than Dave and Ted of Deuces Wild.\n\nSaturday\, September 22\n\n6:30 Food & Drink\n\n7:30 Showtime\n\n9:00 "After Party"\n\n\n	Silent Auction Items\n	Special "After Party"\n\n\nMingle\, eat\, drink\, bid on auction items and raise funds to support A Center for the Arts.\n\nEnjoy the wildly entertaining duo Deuces Wild. It's way more than a dueling piano show\, Dave and Ted put on a fantastic show and we know you'll enjoy every minute!\n\nEnjoy Coffee Drinks and Dessert at the After Party (extra fee applies).\n\nAll to raise funds for the benefit of AC4TA.
X-ALT-DESC;FMTTYPE=text/html:<p><span style="font-size: 14pt\;"><strong>DEUCES WILD: Dueling Pianos</strong></span></p>\n\n<p><span style="font-size: 14pt\;"><strong>Our Fall Fundraising Event</strong></span></p>\n\n<p>Its a clap along\, sing along musical comedy show where the audience is always a part of the action. And no one does it better than Dave and Ted of Deuces Wild.</p>\n\n<p><span style="font-size: 12pt\;"><em><strong>Saturday\, September 22</strong></em></span></p>\n\n<p><em style="font-size: 12pt\;"><strong>6:30 Food &amp\; Drink</strong></em><br />\n<em style="font-size: 12pt\;"><strong>7:30 Showtime</strong></em><br />\n<em style="font-size: 12pt\;"><strong>9:00 &quot\;After Party&quot\;</strong></em></p>\n\n<ul>\n	<li><span style="font-size: 12pt\;">Silent Auction Items</span></li>\n	<li><span style="font-size: 12pt\;">Special &quot\;After Party</span>&quot\;</li>\n</ul>\n\n<p>Mingle\, eat\, drink\, bid on auction items and raise funds to support A Center for the Arts.</p>\n\n<p>Enjoy the wildly entertaining duo Deuces Wild. It&#39\;s way more than a dueling piano show\, Dave and Ted put on a fantastic show and we know you&#39\;ll enjoy every minute!</p>\n\n<p>Enjoy Coffee Drinks and Dessert at the After Party (extra fee applies).</p>\n\n<p>All to raise funds for the benefit of AC4TA.</p>\n
LOCATION:
UID:e.314.47375
SEQUENCE:3
DTSTAMP:20260423T181122Z
URL:https://business.fergusfalls.com/events/details/deuces-wild-dueling-pianos-ac4ta-fundraiser-47375
END:VEVENT

END:VCALENDAR
