BEGIN:VCALENDAR
VERSION:2.0
PRODID:-//ChamberMaster//Event Calendar 2.0//EN
METHOD:PUBLISH
X-PUBLISHED-TTL:P3D
REFRESH-INTERVAL:P3D
CALSCALE:GREGORIAN
BEGIN:VEVENT
DTSTART:20190929T003000Z
DTEND:20190929T030000Z
X-MICROSOFT-CDO-ALLDAYEVENT:FALSE
SUMMARY:Deuces Wild Dueling Pianos at Fergus Falls Center 4 the Arts
DESCRIPTION:For over 17 years they have traveled coast to coast in the USA\, Canada\, Mexico & Panama as the most sought after dueling piano act in the world. Their high energy mix of comedy\, music and extensive audience participation makes this a show unlike any other! Clap\, laugh\, sing & #TEAMDRINK along with Dave & Ted\, Deuces Wild Dueling Pianos!
X-ALT-DESC;FMTTYPE=text/html:<div class="_63ew" data-testid="event-permalink-details"><span>For over 17 years they have traveled coast to coast in the USA\, Canada\, Mexico &amp\; Panama as the most sought after dueling piano act in the world. Their high energy mix of comedy\, music and extensive audience participation makes this a show unlike any other! Clap\, laugh\, sing &amp\; <a href="https://www.facebook.com/hashtag/teamdrink" target="_blank"><font color="#0066cc">#TEAMDRINK</font></a> along with Dave &amp\; Ted\, Deuces Wild Dueling Pianos!</span></div>\n
LOCATION:A Center for the Arts 124 W Lincoln Ave Fergus Falls MN
UID:e.314.54570
SEQUENCE:3
DTSTAMP:20260422T223053Z
URL:https://business.fergusfalls.com/events/details/deuces-wild-dueling-pianos-at-fergus-falls-center-4-the-arts-54570
END:VEVENT

END:VCALENDAR
