BEGIN:VCALENDAR
VERSION:2.0
PRODID:-//ChamberMaster//Event Calendar 2.0//EN
METHOD:PUBLISH
X-PUBLISHED-TTL:P3D
REFRESH-INTERVAL:P3D
CALSCALE:GREGORIAN
BEGIN:VEVENT
DTSTART:20160330T220000Z
DTEND:20160330T233000Z
X-MICROSOFT-CDO-ALLDAYEVENT:FALSE
SUMMARY:Digitizing Embroidery: Artist Talk and Workshop
DESCRIPTION:Join Hinge Resident Artist (hosted by Springboard for the Arts)\, Jane Claire Remick from Washington D.C.\, for a short artist talk and workshop on digitizing embroidery. She will share her ongoing work and experimentation based on 19th century Mi-Atlantic American Samplers and contemporary factory-produced machine embroidery. Participants will be invited to collaborate on a "digital sampler." Don't worry: coding and design skills are not necessary to participate. When: Wednesday\, March 30th\, 5:00 - 6:30pm Where: Studio K (At the Kaddatz Gallery in Fergus Falls) Register: Workshop attendance is free! Please email jane.c.remick@gmail.com to RSVP so she can plan for enough people. What to bring: If you have a laptop\, we encourage you to bring it\, but it's not required.
X-ALT-DESC;FMTTYPE=text/html:Join Hinge Resident Artist (hosted by Springboard for the Arts)\, Jane Claire Remick from Washington D.C.\, for a short artist talk and workshop on digitizing embroidery. She will share her ongoing work and experimentation based on 19th century Mi-Atlantic American Samplers and contemporary factory-produced machine embroidery. Participants will be invited to collaborate on a &quot\;digital sampler.&quot\; Don&#39\;t worry: coding and design skills are not necessary to participate. When: Wednesday\, March 30th\, 5:00 - 6:30pm Where: Studio K (At the Kaddatz Gallery in Fergus Falls) Register: Workshop attendance is free! Please email jane.c.remick@gmail.com to RSVP so she can plan for enough people. What to bring: If you have a laptop\, we encourage you to bring it\, but it&#39\;s not required.
LOCATION:Studio K (at the Kaddatz Gallery) 111 West Lincoln Ave Fergus Falls
UID:e.314.32332
SEQUENCE:3
DTSTAMP:20260425T195757Z
URL:https://business.fergusfalls.com/events/details/digitizing-embroidery-artist-talk-and-workshop-03-30-2016-32332
END:VEVENT

END:VCALENDAR
