BEGIN:VCALENDAR
VERSION:2.0
PRODID:-//ChamberMaster//Event Calendar 2.0//EN
METHOD:PUBLISH
X-PUBLISHED-TTL:P3D
REFRESH-INTERVAL:P3D
CALSCALE:GREGORIAN
BEGIN:VEVENT
DTSTART:20160324T160000Z
DTEND:20160325T010000Z
X-MICROSOFT-CDO-ALLDAYEVENT:FALSE
SUMMARY:"Dine to Donate" for Someplace Safe at Perkins
DESCRIPTION:Perkins will donate 20% of all re-tax sales to Someplace Safe on Thursday\, March 24. Enjoy breakfast\, lunch\, supper or anything in between and your purchase will benefit Someplace Safe.\n\nPlease notify server.
X-ALT-DESC;FMTTYPE=text/html:Perkins will donate 20% of all re-tax sales to Someplace Safe on Thursday\, March 24. Enjoy breakfast\, lunch\, supper or anything in between and your purchase will benefit Someplace Safe.<br />\nPlease notify server.
LOCATION:Perkins Restaurant & Bakery Frontier Drive Fergus Falls\, MN
UID:e.314.32056
SEQUENCE:3
DTSTAMP:20260425T182620Z
URL:https://business.fergusfalls.com/events/details/dine-to-donate-for-someplace-safe-at-perkins-03-24-2016-32056
END:VEVENT

END:VCALENDAR
