BEGIN:VCALENDAR
VERSION:2.0
PRODID:-//ChamberMaster//Event Calendar 2.0//EN
METHOD:PUBLISH
X-PUBLISHED-TTL:P3D
REFRESH-INTERVAL:P3D
CALSCALE:GREGORIAN
BEGIN:VEVENT
DTSTART:20180727T150000Z
DTEND:20180728T020000Z
X-MICROSOFT-CDO-ALLDAYEVENT:FALSE
SUMMARY:Dine to Donate- Stuff the Bus @ Perkins
DESCRIPTION:Perkin's Family Restaurant in Fergus Falls is hosting a Dine to Donate.....\n\n20% of all sales will be donated to the Stuff the Bus Program. Stuff the Bus provides children in need with school supplies for the upcoming school year.
X-ALT-DESC;FMTTYPE=text/html:<div class="_63ew" data-testid="event-permalink-details"><span>Perkin&#39\;s Family Restaurant in Fergus Falls is hosting a Dine to Donate.....<br />\n20% of all sales will be donated to the Stuff the Bus Program. Stuff the Bus provides children in need with school supplies for the upcoming school year.</span></div>\n
LOCATION:Perkin's Family Restaurant Fergus Falls\, Minnesota 56537
UID:e.314.50288
SEQUENCE:3
DTSTAMP:20260423T195741Z
URL:https://business.fergusfalls.com/events/details/dine-to-donate-stuff-the-bus-perkins-50288
END:VEVENT

END:VCALENDAR
