BEGIN:VCALENDAR
VERSION:2.0
PRODID:-//ChamberMaster//Event Calendar 2.0//EN
METHOD:PUBLISH
X-PUBLISHED-TTL:P3D
REFRESH-INTERVAL:P3D
CALSCALE:GREGORIAN
BEGIN:VEVENT
DTSTART:20180210T000000Z
DTEND:20180210T040000Z
X-MICROSOFT-CDO-ALLDAYEVENT:FALSE
SUMMARY:Spartan Dinner & Dance
DESCRIPTION:Jazz lovers\, take note! Come and enjoy some of the area's best at the Spartan Dinner & Dance at Legacy Hall on the Fergus Falls campus of M State.\n\n\n\nThe social and dinner hour start at 6 p.m.\n\n\n\nThe dance is from 7 to 10 p.m. with music provided by the M State Jazz Band under the direction of Scott Kummrow and the Lakes Area All Stars\, directed by Jim Iverson. The Lakes Area All Stars feature local band directors and musicians.\n\n\n\nDinner is pork roast\, potatoes\, green beans and a salad roll. Cash bar.\n\n\n\nThere will be a Fine Arts Cash Raffle with a top prize of $1\,963 which is the year the Fergus Area College Foundation was established. You do not need to be present to win the raffle\, but know you will want to be there.\n\n\n\nTickets for the Dinner & Dance are $40 or buy a table of 8 for $300 and receive a FREE bottle of wine!\n\n\n\nTickets available at M State Box Office\, Service Food or Victor Lundeen Company. You may also purchase them online at https://facfmstate.org/spartan-dinner-dance/\n\n\n\nTickets must be purchased by February 3rd 2018.\n\n\n\nPublic Welcome!\n\n\n\nProceeds go toward the Fine Arts programs at M State through the Fergus Area College Foundation.
X-ALT-DESC;FMTTYPE=text/html:<p><span style="color: rgb(75\, 79\, 86)\; font-family: helvetica\,arial\,sans-serif\; font-size: 14px\;">Jazz lovers\, take note! Come and enjoy some of the area&rsquo\;s best at the Spartan Dinner &amp\; Dance at Legacy Hall on the Fergus Falls campus of M State.</span><br />\n<br />\n<span style="color: rgb(75\, 79\, 86)\; font-family: helvetica\,arial\,sans-serif\; font-size: 14px\;">The social and dinner hour start at 6 p.m.</span><br />\n<br />\n<span style="color: rgb(75\, 79\, 86)\; font-family: helvetica\,arial\,sans-serif\; font-size: 14px\;">The dance is from 7 to 10 p.m. with music provided by the M State Jazz Band under the direction of Scott Kummrow and the Lakes Area All Stars\, directed by Jim Iverson. The Lakes Area All Stars feature local band directors and musicians.</span><br />\n<br />\n<span style="color: rgb(75\, 79\, 86)\; font-family: helvetica\,arial\,sans-serif\; font-size: 14px\;">Dinner is pork roast\, potatoes\, green beans and a salad roll. Cash bar.</span><br />\n<br />\n<span style="color: rgb(75\, 79\, 86)\; font-family: helvetica\,arial\,sans-serif\; font-size: 14px\;">There will be a Fine Arts Cash Raffle with a top prize of $1\,963 which is the year the Fergus Area College Foundation was established. You do not need to be present to win the raffle\, but know you will want to be there.</span><br />\n<br />\n<span style="color: rgb(75\, 79\, 86)\; font-family: helvetica\,arial\,sans-serif\; font-size: 14px\;">Tickets for the Dinner &amp\; Dance are $40 or buy a table of 8 for $300 and receive a FREE bottle of wine!</span><br />\n<br />\n<span style="color: rgb(75\, 79\, 86)\; font-family: helvetica\,arial\,sans-serif\; font-size: 14px\;">Tickets available at M State Box Office\, Service Food or Victor Lundeen Company. You may also purchase them online at&nbsp\;<a href="https://l.facebook.com/l.php?u=https%3A%2F%2Ffacfmstate.org%2Fspartan-dinner-dance%2F&amp\;h=ATNSWjTcX9VbFOPrrtvMV6vZo8P7sle_cQOMA_v313J7sqQu4pDA6F5kKv3rkOHudqbvVzvWYSlFKOw9WdHLNGn3fyCcwIHRxOvBxqhY3sQ_izxHaQ9ECfSiiydbsvspcdKCPkk7QMyRf3mzuC8yJOUvMm93s39b5r40hz4H0IWX5g" rel="nofollow noopener" style="color: rgb(54\, 88\, 153)\; font-family: inherit\; text-decoration-line: none\;" target="_blank"><span style="font-family: inherit\;">https://facfmstate.org/</span>spartan-dinner-dance/</a><br />\n<br />\nTickets must be purchased by February 3rd 2018.<br />\n<br />\nPublic Welcome!<br />\n<br />\nProceeds go toward the Fine Arts programs at M State through the Fergus Area College Foundation.</span></p>\n
LOCATION:Legacy Hall Minnesota State Community & Technical College 1414 College Way Fergus Falls\, MN 56537
UID:e.314.42672
SEQUENCE:3
DTSTAMP:20260424T025004Z
URL:https://business.fergusfalls.com/events/details/dinner-dance-42672
END:VEVENT

END:VCALENDAR
