BEGIN:VCALENDAR
VERSION:2.0
PRODID:-//ChamberMaster//Event Calendar 2.0//EN
METHOD:PUBLISH
X-PUBLISHED-TTL:P3D
REFRESH-INTERVAL:P3D
CALSCALE:GREGORIAN
BEGIN:VEVENT
DTSTART:20151031T220000Z
DTEND:20151101T040000Z
X-MICROSOFT-CDO-ALLDAYEVENT:FALSE
SUMMARY:DINNER WITH HADES
DESCRIPTION:DINNER WITH HADES -\n\n \nCOME JOIN US FOR A SATURDAY EVENING WITH\n\n\n\n\n\nGRINDHOUSE\n\nTHE LEE ARTHUR EXPERIENCE\n\nDJ CASTRO\n\nTHE PAULIELAMA\n\nVENUS IN FURS\n\nTHE OREGON BETRAIL AND\n\nDOPY T...\n\n\n\nCASH PRIZES FOR THE FOLLOWING CATEGORIES...\n\n\n\nFIRST PLACE SINGLE COSTUME\n\nRUNNER UP SINGLE COSTUME\n\nAND\n\nGROUP COSTUME...\n\n\n\nMORE DETAILS TO COME THIS IS AN ALL AGES EVENT AND WILL BE A FUN NIGHT GETTING TO HANG OUT WITH FELLOW ARTISTS AND MUSICIANS...
X-ALT-DESC;FMTTYPE=text/html:<div class="_5v1l"><a href="https://www.facebook.com/events/541342056014588/?ref=1&amp\;action_history=%5B%7B%22surface%22%3A%22permalink%22%2C%22mechanism%22%3A%22surface%22%2C%22extra_data%22%3A%5B%5D%7D%5D"><font color="#0066cc">DINNER WITH HADES</font></a> -<br />\n&nbsp\;\n<div class="text_exposed_root text_exposed" id="id_5602c8492d56a2e91194409"><span class="fsl">COME JOIN US FOR A SATURDAY EVENING WITH<br />\n<br />\n<br />\nGRINDHOUSE<br />\nTHE LEE ARTHUR EXPERIENCE<br />\nDJ CASTRO<br />\nTHE PAULIELAMA<br />\nVENUS IN FURS<br />\nTHE OREGON BETRAIL AND<br />\nDOPY T...<br />\n<br />\n<strong>CASH PRIZES FOR THE FOLLOWING CATEGORIES</strong><span class="text_exposed_hide">...</span><br />\n<br />\n<span class="text_exposed_show">FIRST PLACE SINGLE COSTUME<br />\nRUNNER UP SINGLE COSTUME<br />\nAND<br />\nGROUP COSTUME...<br />\n<br />\nMORE DETAILS TO COME THIS IS AN ALL AGES EVENT AND WILL BE A FUN NIGHT GETTING TO HANG OUT WITH FELLOW ARTISTS AND MUSICIANS...</span></span></div>\n</div>\n
LOCATION:The Spot Panini & Wine 220 W Lincoln Ave Fergus Falls Mn
UID:e.314.24227
SEQUENCE:3
DTSTAMP:20260426T025116Z
URL:https://business.fergusfalls.com/events/details/dinner-with-hades-10-31-2015-24227
END:VEVENT

END:VCALENDAR
