BEGIN:VCALENDAR
VERSION:2.0
PRODID:-//ChamberMaster//Event Calendar 2.0//EN
METHOD:PUBLISH
X-PUBLISHED-TTL:P3D
REFRESH-INTERVAL:P3D
CALSCALE:GREGORIAN
BEGIN:VEVENT
DTSTART:20160624T223000Z
DTEND:20160625T033000Z
X-MICROSOFT-CDO-ALLDAYEVENT:FALSE
SUMMARY:Dirt Track Racing- I-94 Speedway
DESCRIPTION:I-94 Speedway in Fergus Falls Track Information\nFRIDAY NIGHT RACING\n\nWISSOTA Sanctioned 3/8 Mile High Banked Dirt Track\n\n\n\nDIVISIONS for 2015: Wissota Late Models\, Wissota Modifieds\, Wissota Super Stocks\, Wissota Midwest Mods\, Wissota Street Stock & Short Trackers.\n\n\n\nTransponders Mandatory All Classes Will Be For Rent Or For Sale At Back Gate\n\n\n\n\n\n\n\n2015 I-94 Speedway Driver Information Sheet\n\n\n\n2016 I-94 Short Tracker & Truck Rules (PDF)\n\n\n\n\n\n\n\nPit Gate Opens at 3:00PM\n\nFan Gates 5:30PM - Draw Cut Off: 6:15PM - Racing 7:00PM\n\n\n\n218.998.2191 - 320.693.2434 FAX\n\n\n\nTRACK ADDRESS: 2001 W FIR FERGUS FALLS MN 56537\n\n\n\nAREA OFFICE:\n\n1415 FAWN LANE FERGUS FALLS MN 56537\n\n\n\nMAIN OFFICE:\n\nI-94 SPEEDWAY INC\n\n62824 250TH STREET LITCHFIELD MN 55355\n\n\n\nKarla - 320.761.2528 (Cell)\n\nCorey - 218-770-0665 (Cell)\n\n\n\n\n\n\n\nTicket Prices\n\nGate $10.00 Special $15.00\n\n10 Years Old And Under Free With Paid General Admission\n\n\n\nTailgate: (+ Gate Admission)\n\nTailgate Vehicle Entry $20.00 Extra On Regular Night\n\nSpecial Event $30.00\n\n\n\nRV Tailgate Parking Area East Fence Line $30.00 Extra Regular Night\n\nSpecial Event $40.00
X-ALT-DESC;FMTTYPE=text/html:<h4 class="frontTitle"><strong>I-94 Speedway in Fergus Falls Track Information</strong></h4>\nFRIDAY NIGHT RACING<br />\nWISSOTA Sanctioned 3/8 Mile High Banked Dirt Track<br />\n<br />\nDIVISIONS for 2015: Wissota Late Models\, Wissota Modifieds\, Wissota Super Stocks\, Wissota Midwest Mods\, Wissota Street Stock &amp\; Short Trackers.<br />\n<br />\n<strong>Transponders Mandatory All Classes Will Be For Rent Or For Sale At Back Gate</strong><br />\n<br />\n<br />\n<br />\n<a href="http://www.i94speedways.com/pdfs/driverInfo_01.pdf"><font color="#0066cc">2015 I-94 Speedway Driver Information Sheet</font></a><br />\n<br />\n<a href="https://shorttracks.us/racing-photos/2015/10/i94speedway-short-tracker-rules.pdf"><font color="#0066cc">2016 I-94 Short Tracker &amp\; Truck Rules (PDF)</font></a><br />\n<br />\n<br />\n<br />\nPit Gate Opens at 3:00PM<br />\nFan Gates 5:30PM - Draw Cut Off: 6:15PM - Racing 7:00PM<br />\n<br />\n218.998.2191 - 320.693.2434 FAX<br />\n<br />\nTRACK ADDRESS: 2001 W FIR FERGUS FALLS MN 56537<br />\n<br />\nAREA OFFICE:<br />\n1415 FAWN LANE FERGUS FALLS MN 56537<br />\n<br />\nMAIN OFFICE:<br />\nI-94 SPEEDWAY INC<br />\n62824 250TH STREET LITCHFIELD MN 55355<br />\n<br />\nKarla - 320.761.2528 (Cell)<br />\nCorey - 218-770-0665 (Cell)<br />\n<br />\n<br />\n<br />\n<strong>Ticket Prices</strong><br />\nGate $10.00 Special $15.00<br />\n10 Years Old And Under Free With Paid General Admission<br />\n<br />\n<strong>Tailgate: (+ Gate Admission)<br />\nTailgate Vehicle Entry $20.00 Extra On Regular Night<br />\nSpecial Event $30.00<br />\n<br />\nRV Tailgate Parking Area East Fence Line $30.00 Extra Regular Night<br />\nSpecial Event $40.00 </strong><br />\n&nbsp\;
LOCATION:
UID:e.314.32808
SEQUENCE:3
DTSTAMP:20260425T130726Z
URL:https://business.fergusfalls.com/events/details/dirt-track-racing-i-94-speedway-06-24-2016-32808
END:VEVENT

END:VCALENDAR
