BEGIN:VCALENDAR
VERSION:2.0
PRODID:-//ChamberMaster//Event Calendar 2.0//EN
METHOD:PUBLISH
X-PUBLISHED-TTL:P3D
REFRESH-INTERVAL:P3D
CALSCALE:GREGORIAN
BEGIN:VEVENT
DTSTART:20190103T150000Z
DTEND:20190103T160000Z
X-MICROSOFT-CDO-ALLDAYEVENT:FALSE
SUMMARY:District 8 Listening Session hosted by Sen. Ingebrigtsen
DESCRIPTION:Sen. Bill Ingebrigtsen will host a listening session to kickoff the 2019 legislative session.There will be time for questions from constituents.
X-ALT-DESC;FMTTYPE=text/html:Sen. Bill Ingebrigtsen will host a listening session to kickoff the 2019 legislative session.There will be time for questions from constituents.
LOCATION:Fergus Falls Public Library (temporary location) Conference Room 1505 Pebble Lake Rd. Fergus Falls\, MN
UID:e.314.52188
SEQUENCE:3
DTSTAMP:20260423T121810Z
URL:https://business.fergusfalls.com/events/details/district-8-listening-session-hosted-by-sen-ingebrigtsen-52188
END:VEVENT

END:VCALENDAR
