BEGIN:VCALENDAR
VERSION:2.0
PRODID:-//ChamberMaster//Event Calendar 2.0//EN
METHOD:PUBLISH
X-PUBLISHED-TTL:P3D
REFRESH-INTERVAL:P3D
CALSCALE:GREGORIAN
BEGIN:VEVENT
DTSTART:20180414T143000Z
DTEND:20180414T163000Z
X-MICROSOFT-CDO-ALLDAYEVENT:FALSE
SUMMARY:DivorceCare
DESCRIPTION:DivorceCare is for men and women seeking healing and rebuilding in the wake of a separation or divorce. The class is structured so anyone can join at any time and everyone is welcome.
X-ALT-DESC;FMTTYPE=text/html:DivorceCare is for men and women seeking healing and rebuilding in the wake of a separation or divorce. The class is structured so anyone can join at any time and everyone is welcome.
LOCATION:Classes are held upstairs at The Naz in conference room 210. 1319 N. Cleveland Ave Fergus Falls\, MN
UID:e.314.47752
SEQUENCE:3
DTSTAMP:20260423T235350Z
URL:https://business.fergusfalls.com/events/details/divorcecare-04-14-2018-47752
END:VEVENT

END:VCALENDAR
