BEGIN:VCALENDAR
VERSION:2.0
PRODID:-//ChamberMaster//Event Calendar 2.0//EN
METHOD:PUBLISH
X-PUBLISHED-TTL:P3D
REFRESH-INTERVAL:P3D
CALSCALE:GREGORIAN
BEGIN:VEVENT
DTSTART:20151008T234500Z
DTEND:20151009T020000Z
X-MICROSOFT-CDO-ALLDAYEVENT:FALSE
SUMMARY:Dolls With Balls Bowling League- 10 weeks- Northern Aire Lanes
DESCRIPTION:Dolls With Balls Bowling League- 10 weeks\n\nNO STUFFY RULES- NO SANCTION FEES- ALL SKILL LEVELS WELCOME!!\n\nOct 8- Dec 17- Thurs nights @ 6:45\n\nShort league- only 10 weeks long!\n\n4 ladies on a team\n\n**CASH prizes**\n\nIf you're interested\, Just message me or comment below with names of team members. Or call the bowling alley. 736-3333\n\nIndividuals can sign up too. Doesn't HAVE to be a whole team.
X-ALT-DESC;FMTTYPE=text/html:<span class="entity _4v1s" data-fulltext="Dolls&nbsp\;With&nbsp\;Balls&nbsp\;Bowling&nbsp\;League-&nbsp\;10&nbsp\;weeks" data-group="all" data-icon="null" data-select="group" data-si="true" data-text="Dolls&nbsp\;With&nbsp\;Balls&nbsp\;Bowling&nbsp\;League-&nbsp\;10&nbsp\;weeks" data-type="ent:event" data-uid="856688001008314">Dolls&nbsp\;With&nbsp\;Balls&nbsp\;Bowling&nbsp\;League-&nbsp\;10&nbsp\;weeks</span><br />\n<span class="fsl">NO STUFFY RULES- NO SANCTION FEES- ALL SKILL LEVELS <strong>WELCOME!!<br />\nOct 8- Dec 17- Thurs nights @ 6:45<br />\nShort league- only 10 weeks long!<br />\n4 ladies on a team</strong><br />\n**CASH prizes**<br />\nIf you&#39\;re interested\, Just message me or comment below with names of team members. Or call the bowling alley. 736-3333<br />\nIndividuals can sign up too. Doesn&#39\;t HAVE to be a whole team.</span>
LOCATION:Northern Aire Lanes 1419 College Way\, Fergus Falls
UID:e.314.24225
SEQUENCE:3
DTSTAMP:20260426T030703Z
URL:https://business.fergusfalls.com/events/details/dolls-with-balls-bowling-league-10-weeks-northern-aire-lanes-10-08-2015-24225
END:VEVENT

END:VCALENDAR
