BEGIN:VCALENDAR
VERSION:2.0
PRODID:-//ChamberMaster//Event Calendar 2.0//EN
METHOD:PUBLISH
X-PUBLISHED-TTL:P3D
REFRESH-INTERVAL:P3D
CALSCALE:GREGORIAN
BEGIN:VEVENT
DTSTART;VALUE=DATE:20180303
DTEND;VALUE=DATE:20180304
TRANSP:TRANSPARENT
X-MICROSOFT-CDO-ALLDAYEVENT:TRUE
SUMMARY:Don Pablos Hockey dining out night fundraising.
DESCRIPTION:Don Pablos will donate 15% from all food and drink sold to FF Youth Hockey. Show up and eat! Must have coupon from add on our website. http://fergusfallshockey.pucksystems.com/
X-ALT-DESC;FMTTYPE=text/html:Don Pablos will donate 15% from all food and drink sold to FF Youth Hockey. Show up and eat! Must have coupon from add on our website. http://fergusfallshockey.pucksystems.com/
LOCATION:
UID:e.314.41403
SEQUENCE:3
DTSTAMP:20260424T025826Z
URL:https://business.fergusfalls.com/events/details/don-pablos-hockey-dining-out-night-fundraising-03-03-2018-41403
END:VEVENT

END:VCALENDAR
