BEGIN:VCALENDAR
VERSION:2.0
PRODID:-//ChamberMaster//Event Calendar 2.0//EN
METHOD:PUBLISH
X-PUBLISHED-TTL:P3D
REFRESH-INTERVAL:P3D
CALSCALE:GREGORIAN
BEGIN:VEVENT
DTSTART;VALUE=DATE:20160720
DTEND;VALUE=DATE:20160723
TRANSP:TRANSPARENT
X-MICROSOFT-CDO-ALLDAYEVENT:TRUE
SUMMARY:Dough For Joe Tournament at PLGC
DESCRIPTION:Dough For Joe Tournament at PLGC
X-ALT-DESC;FMTTYPE=text/html:Dough For Joe Tournament at PLGC<br />\n&nbsp\;
LOCATION:Pebble Lake Golf Course 1918 Pebble Lake Golf Rd
UID:e.314.32927
SEQUENCE:3
DTSTAMP:20260425T111936Z
URL:https://business.fergusfalls.com/events/details/dough-for-joe-tournament-at-plgc-07-20-2016-32927
END:VEVENT

END:VCALENDAR
