BEGIN:VCALENDAR
VERSION:2.0
PRODID:-//ChamberMaster//Event Calendar 2.0//EN
METHOD:PUBLISH
X-PUBLISHED-TTL:P3D
REFRESH-INTERVAL:P3D
CALSCALE:GREGORIAN
BEGIN:VEVENT
DTSTART:20160610T183000Z
DTEND:20160610T193000Z
X-MICROSOFT-CDO-ALLDAYEVENT:FALSE
SUMMARY:Downtown Architectural Tour
DESCRIPTION:Walking tour led by Chris Schuelke\, Executive Director of the Otter Tail County Historical Society\, of historic downtown Fergus Falls.
X-ALT-DESC;FMTTYPE=text/html:<span style="color: rgb(0\, 0\, 0)\; font-family: Arial\, sans-serif\; font-size: small\; line-height: 18.2px\; white-space: pre-wrap\;">Walking tour led by Chris Schuelke\, Executive Director of the Otter Tail County Historical Society\, of historic downtown Fergus Falls.</span>
LOCATION:River Inn - Corner of Lincoln and Cascade\, Downtown Fergus Falls
UID:e.314.32842
SEQUENCE:3
DTSTAMP:20260425T125519Z
URL:https://business.fergusfalls.com/events/details/downtown-architectural-tour-06-10-2016-32842
END:VEVENT

END:VCALENDAR
