BEGIN:VCALENDAR
VERSION:2.0
PRODID:-//ChamberMaster//Event Calendar 2.0//EN
METHOD:PUBLISH
X-PUBLISHED-TTL:P3D
REFRESH-INTERVAL:P3D
CALSCALE:GREGORIAN
BEGIN:VEVENT
DTSTART;VALUE=DATE:20161210
DTEND;VALUE=DATE:20161211
TRANSP:TRANSPARENT
X-MICROSOFT-CDO-ALLDAYEVENT:TRUE
SUMMARY:Downtown Fergus Falls Holiday Open House
DESCRIPTION:Enjoy the charm of shopping downtown Fergus Falls for the holidays.\n\nShop downtown! Hot cocoa\, popcorn and cookies too! For a list of participating businesses stop at a downtown retailer.\n\nJoin us for Santa Saturday\, December 10 in Downtown Fergus Falls. New activities are still being added but here's what we know so far. It's going to be a great day! Please join us and remember - shop locally!\n\nMost retailers open 9:30 a.m.-6 p.m.\n\n10-11 a.m. Surf's Up with Santa at the Library\n\n1-3 p.m. Horse & carriage rides at Cooper's Office Supply\n\n1-3 p.m. Family Art Table\, Kaddatz Galleries\n\n2 - 3:15 p.m. A Center for the Arts presents "Twas a Night of Tradition" www.Fergusarts.org.($12 adults\, $6 students)\n\n2-3 p.m. Break Christmas Pinatas\, Don Pablos\n\n3-6 p.m. Downtown Art Crawl \n\n4 p.m. The Santa Train arrives at Otter Tail Valley Railroad (you are encouraged to bring a non perishable food item for the Salvation Army). \n\n5 p.m. Christmas Carol Sing-along\, Union Pizza & Brewing\n\n6-7 p.m. "Monarch Butterfly" movie at The Spot Panini & Wine\n\n\nAlso\, the Humane Society is offering gift wrapping at the bric with proceeds benefiting the local shelter. \n\nEvents are free with the exception of the concert at 2 p.m.
X-ALT-DESC;FMTTYPE=text/html:<span style="color:#006400\;"><strong>Enjoy the charm of shopping downtown Fergus Falls for the holidays.</strong></span><br />\n<span style="color: rgb(29\, 33\, 41)\; font-family: Helvetica\, Arial\, sans-serif\; font-size: 14px\;">Shop downtown! Hot cocoa\, popcorn and cookies too! For a list of participating businesses stop at a downtown retailer.</span>\n\n<p style="margin: 0px 0px 6px\; color: rgb(29\, 33\, 41)\; font-family: Helvetica\, Arial\, sans-serif\; font-size: 14px\;">Join us for Santa Saturday\, December 10 in Downtown Fergus Falls. New activities are still being added but here&#39\;s what we know so far. It&#39\;s going to be a great day! Please join us and remember - shop locally!</p>\n\n<p style="margin: 6px 0px\; color: rgb(29\, 33\, 41)\; font-family: Helvetica\, Arial\, sans-serif\; font-size: 14px\;">Most retailers open 9:30 a.m.-6 p.m.<br />\n10-11 a.m. Surf&#39\;s Up with Santa at the Library<br />\n1-3 p.m. Horse &amp\; carriage rides at Cooper&#39\;s Office Supply<br />\n<span class="text_exposed_show" style="display: inline\;">1-3 p.m. Family Art Table\, Kaddatz Galleries<br />\n2 - 3:15 p.m. A Center for the Arts presents &quot\;Twas a Night of Tradition&quot\;&nbsp\;<a href="http://www.fergusarts.org/" rel="nofollow" style="color: rgb(54\, 88\, 153)\; cursor: pointer\; text-decoration: none\;" target="_blank">www.Fergusarts.org.</a>($12 adults\, $6 students)<br />\n2-3 p.m. Break Christmas Pinatas\, Don Pablos<br />\n3-6 p.m. Downtown Art Crawl&nbsp\;<br />\n4 p.m. The Santa Train arrives at Otter Tail Valley Railroad (you are encouraged to bring a non perishable food item for the Salvation Army).&nbsp\;<br />\n5 p.m. Christmas Carol Sing-along\, Union Pizza &amp\; Brewing<br />\n6-7 p.m.&nbsp\;&quot\;Monarch Butterfly&quot\; movie at The Spot Panini &amp\; Wine</span></p>\n\n<div class="text_exposed_show" style="display: inline\; color: rgb(29\, 33\, 41)\; font-family: Helvetica\, Arial\, sans-serif\; font-size: 14px\;">\n<p style="margin: 0px 0px 6px\;">Also\, the Humane Society is offering gift wrapping at <strong>the bric</strong> with proceeds benefiting the local shelter.&nbsp\;</p>\n\n<p style="margin: 6px 0px\;">Events are free with the exception of the concert at 2 p.m.</p>\n</div>\n
LOCATION:Downtown Fergus Falls
UID:e.314.36643
SEQUENCE:3
DTSTAMP:20260425T022031Z
URL:https://business.fergusfalls.com/events/details/downtown-fergus-falls-holiday-open-house-36643
END:VEVENT

END:VCALENDAR
