BEGIN:VCALENDAR
VERSION:2.0
PRODID:-//ChamberMaster//Event Calendar 2.0//EN
METHOD:PUBLISH
X-PUBLISHED-TTL:P3D
REFRESH-INTERVAL:P3D
CALSCALE:GREGORIAN
BEGIN:VEVENT
DTSTART:20160714T000000Z
DTEND:20160714T010000Z
X-MICROSOFT-CDO-ALLDAYEVENT:FALSE
SUMMARY:Downtown Fergus Falls Mystery Tour
DESCRIPTION:Walking tour led by Chris Schuelke\, Executive Director of the Otter Tail County Historical Society\, of historic downtown Fergus Falls\, with special guest appearances. Be thrilled by the mysterious events that have taken place in downtown Fergus Falls. Fee: $6.00 per person. All proceeds benefit the Otter Tail County Historical Society. Known for its quaint tree-lined streets\, abundant churches and flocks of geese\, Fergus Falls also has a dark side that has largely been ignored until now. Join Otter Tail County Historical Society executive director Chris Schuelke and his crew of actors as they kick off Summerfest weekend with the spine tingling Downtown Fergus Falls Mystery Tour on Wednesday\, June 13\, beginning at 7 p.m. The tour begins in the lobby of the historic River Inn on Mill Street. Due to the tour's content\, the Downtown Fergus Falls Mystery Tour may not be suitable for young children. Parental discretion is advised.
X-ALT-DESC;FMTTYPE=text/html:<table class="ep-dp-dt">\n	<tbody>\n		<tr id=":19.descript-row">\n			<th class="ep-dp-dt-th">&nbsp\;</th>\n			<td class="ep-dp-dt-td">\n			<div class="ep-dp-descript" id=":19.descript">\n			<div class="ui-sch">\n			<div class="ui-sch-view">Walking tour led by Chris Schuelke\, Executive Director of the Otter Tail County Historical Society\, of historic downtown Fergus Falls\, with special guest appearances. Be thrilled by the mysterious events that have taken place in downtown Fergus Falls. Fee: $6.00 per person. All proceeds benefit the Otter Tail County Historical Society. Known for its quaint tree-lined streets\, abundant churches and flocks of geese\, Fergus Falls also has a dark side that has largely been ignored&hellip\;until now. Join Otter Tail County Historical Society executive director Chris Schuelke and his crew of actors as they kick off Summerfest weekend with the spine tingling Downtown Fergus Falls Mystery Tour on Wednesday\, June 13\, beginning at 7 p.m. The tour begins in the lobby of the historic River Inn on Mill Street. Due to the tour&rsquo\;s content\, the Downtown Fergus Falls Mystery Tour may not be suitable for young children. Parental discretion is advised.</div>\n			</div>\n			</div>\n			</td>\n		</tr>\n	</tbody>\n</table>\n
LOCATION:Meet at the River Inn\, Downtown Fergus Falls
UID:e.314.32855
SEQUENCE:3
DTSTAMP:20260425T125927Z
URL:https://business.fergusfalls.com/events/details/downtown-fergus-falls-mystery-tour-07-13-2016-32855
END:VEVENT

END:VCALENDAR
