BEGIN:VCALENDAR
VERSION:2.0
PRODID:-//ChamberMaster//Event Calendar 2.0//EN
METHOD:PUBLISH
X-PUBLISHED-TTL:P3D
REFRESH-INTERVAL:P3D
CALSCALE:GREGORIAN
BEGIN:VEVENT
DTSTART:20170329T223000Z
DTEND:20170330T003000Z
X-MICROSOFT-CDO-ALLDAYEVENT:FALSE
SUMMARY:Downtown & Riverfront Master Plan Community Open House
DESCRIPTION:We need your input! You are invited to the March 29 Open House to see some potential concepts that could bring new activities and buildings to the riverfront in downtown and west of downtown\, an improved walking and biking environment\, a riverfront trail\, entertainment venuews\, and parks/recreation areas. The open house will be an opportunity for you to talk with the project team members and your neighbors and to give you input about what things you would like to see happen in downtown and along the riverfront.
X-ALT-DESC;FMTTYPE=text/html:We need your input! You are invited to the March 29 Open House to see some potential concepts that could bring new activities and buildings to the riverfront in downtown and west of downtown\, an improved walking and biking environment\, a riverfront trail\, entertainment venuews\, and parks/recreation areas. The open house will be an opportunity for you to talk with the project team members and your neighbors and to give you input about what things you would like to see happen in downtown and along the riverfront.
LOCATION:Fergus Falls City Hall Council Chambers - 112 Washington Ave W
UID:e.314.38926
SEQUENCE:3
DTSTAMP:20260424T205850Z
URL:https://business.fergusfalls.com/events/details/downtown-riverfront-master-plan-community-open-house-03-29-2017-38926
END:VEVENT

END:VCALENDAR
