BEGIN:VCALENDAR
VERSION:2.0
PRODID:-//ChamberMaster//Event Calendar 2.0//EN
METHOD:PUBLISH
X-PUBLISHED-TTL:P3D
REFRESH-INTERVAL:P3D
CALSCALE:GREGORIAN
BEGIN:VEVENT
DTSTART:20170124T233000Z
DTEND:20170125T013000Z
X-MICROSOFT-CDO-ALLDAYEVENT:FALSE
SUMMARY:Downtown & Riverfront Master Plan Community Open House
DESCRIPTION:Your input is needed! The City of Fergus Falls is in the process of developing a community vision and master plan for the future of our riverfront and downtown. To ensure this project is reflective of community desires\, input will be sought during a Community Open House on January 24. The open house will be an opportunity for you and your neighbors to get together to share your ideas about the future of downtown and riverfront areas.
X-ALT-DESC;FMTTYPE=text/html:Your input is needed! The City of Fergus Falls is in the process of developing a community vision and master plan for the future of our riverfront and downtown. To ensure this project is reflective of community desires\, input will be sought during a Community Open House on January 24. The open house will be an opportunity for you and your neighbors to get together to share your ideas about the future of downtown and riverfront areas.
LOCATION:Fergus Falls City Hall - Council Chambers
UID:e.314.37484
SEQUENCE:3
DTSTAMP:20260425T002650Z
URL:https://business.fergusfalls.com/events/details/downtown-riverfront-master-plan-community-open-house-37484
END:VEVENT

END:VCALENDAR
