BEGIN:VCALENDAR
VERSION:2.0
PRODID:-//ChamberMaster//Event Calendar 2.0//EN
METHOD:PUBLISH
X-PUBLISHED-TTL:P3D
REFRESH-INTERVAL:P3D
CALSCALE:GREGORIAN
BEGIN:VEVENT
DTSTART;VALUE=DATE:20240210
DTEND;VALUE=DATE:20240211
TRANSP:TRANSPARENT
X-MICROSOFT-CDO-ALLDAYEVENT:TRUE
SUMMARY:Downtown Valentines Day Shopping
DESCRIPTION:Need a perfect Valentines Day Gift for your loved one(s). Don't forget to shop fantastic downtown Fergus Falls for the perfect gift.\n\n\n\nBiffley's & Dragon's Den\n\nThe Bric\n\nDahlia's Downtown Boutique\n\nDandelion & Burdock\n\nDutchmen Organics\n\nElevate\n\nFergus Apothecary\n\nThe Flower Mill\n\nMauk Jewelers\n\nNutrition Gone Wild\n\nOlson Furniture & Design Studio\n\nSoapwerks & Creative Handmade Goods\n\nStained Glass Art\n\nSugar High Cannabis Consulting & Dispensary\n\nVictor Lundeen Company
X-ALT-DESC;FMTTYPE=text/html:Need a perfect Valentines Day Gift for your loved one(s). Don&#39\;t forget to shop fantastic downtown Fergus Falls for the perfect gift.<br />\n<br />\nBiffley&#39\;s &amp\; Dragon&#39\;s Den<br />\nThe Bric<br />\nDahlia&#39\;s Downtown Boutique<br />\nDandelion &amp\; Burdock<br />\nDutchmen Organics<br />\nElevate<br />\nFergus Apothecary<br />\nThe Flower Mill<br />\nMauk Jewelers<br />\nNutrition Gone Wild<br />\nOlson Furniture &amp\; Design Studio<br />\nSoapwerks &amp\; Creative Handmade Goods<br />\nStained Glass Art<br />\nSugar High Cannabis Consulting &amp\; Dispensary<br />\nVictor Lundeen Company<br />\n&nbsp\;
LOCATION:Beautiful Downtown Fergus Falls
UID:e.314.70689
SEQUENCE:3
DTSTAMP:20260421T100712Z
URL:https://business.fergusfalls.com/events/details/downtown-valentines-day-shopping-70689
END:VEVENT

END:VCALENDAR
