BEGIN:VCALENDAR
VERSION:2.0
PRODID:-//ChamberMaster//Event Calendar 2.0//EN
METHOD:PUBLISH
X-PUBLISHED-TTL:P3D
REFRESH-INTERVAL:P3D
CALSCALE:GREGORIAN
BEGIN:VEVENT
DTSTART:20200107T170000Z
DTEND:20200107T190000Z
X-MICROSOFT-CDO-ALLDAYEVENT:FALSE
SUMMARY:Dual Training Grant Information Session - MN Pipeline
DESCRIPTION:This event is specifically for the following industries: advanced manufacturing\, agriculture\, health care and information technology. The MN Department of Labor and Office of Higher Education are coming to Fergus Falls to teach you about the Pipeline Dual-Training Program and grant opportunity which will open for applications in March of 2020. \n\n\n\nPairing on the job training with related instruction is crucial to develop today's workforce\, and employers in the four targeted industries may apply for grants (up to $6\,000 per person) to reimburse for expenses related to attaining an industry-recognized degree\, certificate or credential for their employees.\n\n\n\nRegister at https://www.greaterfergusfalls.com/dual-training
X-ALT-DESC;FMTTYPE=text/html:<p><span style="background-color:rgb(255\, 255\, 255)\; color:rgb(29\, 33\, 41)\; font-family:helvetica\,arial\,sans-serif\; font-size:14px">This event is specifically for the following industries: advanced manufacturing\, agriculture\, health care and information technology. The MN Department of Labor and Office of Higher Education are coming to Fergus Falls to teach you about the Pipeline Dual-Training Program and grant opportunity which will open for applications in March of 2020. </span><br />\n<br />\n<span style="background-color:rgb(255\, 255\, 255)\; color:rgb(29\, 33\, 41)\; font-family:helvetica\,arial\,sans-serif\; font-size:14px">Pairing on the job training with related instruction is crucial to develop today&#39\;s workforce\, and employers in the four targeted industries may apply for grants (up to $6\,000 per person) to reimburse for expenses related to attaining an industry-recognized degree\, certificate or credential for their employees.<br />\n<br />\nRegister at&nbsp\;</span><a href="https://l.facebook.com/l.php?u=https%3A%2F%2Fwww.greaterfergusfalls.com%2Fdual-training%3Ffbclid%3DIwAR23-ndPqVak-Cqn42q5Pth-FdPziT7CZCDdrM_TvEfxgtcmW8GF42g9MhA&amp\;h=AT1bxh-rE4m7PXIsYghg38izC-hjVmkSSCbKvwOf7skg4ggD4nlCapm4jC-rO7hCS16kY_yX9Rme2qBDvGHlMyTHsO8YbnFF4hsRBSNflC4VW9K0nLlLYVHJJLVLJV_Alw" rel="nofollow noopener" style="color: rgb(56\, 88\, 152)\; cursor: pointer\; font-family: Helvetica\, Arial\, sans-serif\; font-size: 14px\; white-space: pre-wrap\;" target="_blank">https://www.greaterfergusfalls.com/dual-training</a></p>\n\n<p>&nbsp\;</p>\n\n<div>&nbsp\;</div>\n
LOCATION:Lakes Country Service Cooperative 1001 E. Mount Faith Ave
UID:e.314.56024
SEQUENCE:3
DTSTAMP:20260422T171942Z
URL:https://business.fergusfalls.com/events/details/dual-training-grant-information-session-mn-pipeline-56024
END:VEVENT

END:VCALENDAR
