BEGIN:VCALENDAR
VERSION:2.0
PRODID:-//ChamberMaster//Event Calendar 2.0//EN
METHOD:PUBLISH
X-PUBLISHED-TTL:P3D
REFRESH-INTERVAL:P3D
CALSCALE:GREGORIAN
BEGIN:VEVENT
DTSTART:20200107T170000Z
DTEND:20200107T190000Z
X-MICROSOFT-CDO-ALLDAYEVENT:FALSE
SUMMARY:Dual Training Program and Grant Information Session
DESCRIPTION:This event is specifically for the following industries: advanced manufacturing\, agriculture\, health care\, and information technology. The MN Department of Labor and Office of Higher Education are coming to Fergus Falls to teach you about the Pipeline Dual-Training Program and grant opportunity which will open for applications in March of 2020.\n\nPairing on the job training with related instruction is crucial to develop today's workforce\, and employers in the four targeted industries may apply for grants (up to $6\,000 per person) to reimburse for expenses related to attaining an industry-recognized degree\, certificate or credential for their employees. This session will review the program\, and provide an overview of the grant opportunity.
X-ALT-DESC;FMTTYPE=text/html:<p><span style="color:rgb(0\, 51\, 73)"><span style="font-family:wfont_c3f044_5f092cfb2e624bd3bbcb1cdd7ed34e8f\,wf_5f092cfb2e624bd3bbcb1cdd7\,orig_josefin_sans_regular">This event is specifically for the following industries: advanced manufacturing\, agriculture\, health care\, and information technology. The MN Department of Labor and Office of Higher Education are coming to Fergus Falls to teach you about the Pipeline Dual-Training Program and grant opportunity which will open for applications in March of 2020.</span></span></p>\n\n<p><span style="color:rgb(0\, 51\, 73)"><span style="font-family:wfont_c3f044_5f092cfb2e624bd3bbcb1cdd7ed34e8f\,wf_5f092cfb2e624bd3bbcb1cdd7\,orig_josefin_sans_regular">Pairing on the job training with related instruction is crucial to develop today&#39\;s workforce\, and employers in the four targeted industries may apply for grants (up to $6\,000 per person) to reimburse for expenses related to attaining an industry-recognized degree\, certificate or credential for their employees. This session will review the program\, and provide an overview of the grant opportunity.</span></span></p>\n
LOCATION:Lakes Country Area Service Cooperative 1001 East Mount Faith Ave Fergus Falls\, MN 56537
UID:e.314.56016
SEQUENCE:3
DTSTAMP:20260422T171621Z
URL:https://business.fergusfalls.com/events/details/dual-training-program-and-grant-information-session-56016
END:VEVENT

END:VCALENDAR
