BEGIN:VCALENDAR
VERSION:2.0
PRODID:-//ChamberMaster//Event Calendar 2.0//EN
METHOD:PUBLISH
X-PUBLISHED-TTL:P3D
REFRESH-INTERVAL:P3D
CALSCALE:GREGORIAN
BEGIN:VEVENT
DTSTART:20160430T160000Z
DTEND:20160430T200000Z
X-MICROSOFT-CDO-ALLDAYEVENT:FALSE
SUMMARY:Ducks Unlimited Green Wing Duck Fair 2016
DESCRIPTION:Green Wing Ducks Unlimited DUCK FAIR 2016\n\nAnnual Membership Cost: $15 per child \n\nIncludes Ducks Unlimited  Greenwing Membership\, Puddler Magazine\, Entrance to Duck Fair  2016\, Meal\, Beverage\, and all events.\n\n \n\n	Golf Putting Contest\n	BB Gun Shoot\n	Basketball Hoop Shoot\n	Hockey Slap Shot Contest\n	Clay Pigeon Toss\n	Games & Prizes\n	Demonstrations & Much More!\n\n\n\nAll you can eat snacks\, popcorn\, snow-cones\, hot dogs and chips!\n\nAdult Entrance is FREE! Adult food is $5\n\n\n\nTickets available at the gate* no pre-registration required.
X-ALT-DESC;FMTTYPE=text/html:<span style="font-size: 14px\;"><span style="color: rgb(0\, 128\, 0)\;"><strong>Green Wing Ducks Unlimited DUCK FAIR 2016</strong></span></span><br />\n<span style="font-size: 10px\;">Annual Membership Cost: $15 per child </span><br />\nIncludes Ducks&nbsp\;Unlimited &nbsp\;Greenwing Membership\, Puddler Magazine\, Entrance to Duck Fair&nbsp\; 2016\, Meal\, Beverage\, and all events.<br />\n&nbsp\;\n<ul>\n	<li>Golf Putting Contest</li>\n	<li>BB Gun Shoot</li>\n	<li>Basketball Hoop Shoot</li>\n	<li>Hockey Slap Shot Contest</li>\n	<li>Clay Pigeon Toss</li>\n	<li>Games &amp\; Prizes</li>\n	<li>Demonstrations &amp\; Much More!</li>\n</ul>\n<br />\nAll you can eat snacks\, popcorn\, snow-cones\, hot dogs and chips!<br />\nAdult Entrance is FREE! Adult food is $5<br />\n<br />\nTickets available at the gate* no pre-registration required.
LOCATION:Fergus Falls Community Arena 340 Friberg Ave Fergus Falls
UID:e.314.32660
SEQUENCE:3
DTSTAMP:20260425T163251Z
URL:https://business.fergusfalls.com/events/details/ducks-unlimited-green-wing-duck-fair-2016-04-30-2016-32660
END:VEVENT

END:VCALENDAR
