BEGIN:VCALENDAR
VERSION:2.0
PRODID:-//ChamberMaster//Event Calendar 2.0//EN
METHOD:PUBLISH
X-PUBLISHED-TTL:P3D
REFRESH-INTERVAL:P3D
CALSCALE:GREGORIAN
BEGIN:VEVENT
DTSTART:20181231T160000Z
DTEND:20190102T000000Z
X-MICROSOFT-CDO-ALLDAYEVENT:FALSE
SUMMARY:Eagles Aerie 2339
DESCRIPTION:New Year's Eve\n\nMonday\, December 31   Open until 12am\n\nWalleye or Prime Rib Supper\n\n4:30-6:30pm   $12.50\n\nBaked Potato\, Coleslaw\, Bread\, Coffee/Milk\n\n \n\nNew Year's Day\n\nTuesday\, January 1   8am\n\nPancakes   Sausages   Coffee/Milk\n\nPublic Welcome   $4.00/Plate\n\nFree To Paid Members & Their Families\n\nBands\n\nNite Owls   Old Time Music\n\n10am-2pm (downstairs)\n\nThunder Ridge   Country Rock\n\n1:30-5:30pm (Upstairs)\n\nBar Bingo at 3pm
X-ALT-DESC;FMTTYPE=text/html:<p align="LEFT"><span style="color: rgb(255\, 0\, 0)\;"><strong><span style="font-size: 20px\;"><font face="SurvivorFont"><font face="SurvivorFont"><font face="SurvivorFont">New Year&rsquo\;s Eve</font></font></font></span></strong></span></p>\n\n<p><span style="font-size: 16px\;"><span style="color: rgb(0\, 0\, 0)\;"><b><font face="Helvetica-Bold"><font face="Helvetica-Bold"><font face="Helvetica-Bold"><span style="font-size: 14px\;">Monday\, December 31 &bull\; Open until 12am</span><br />\n<span style="font-size: 12px\;"><font face="Tabitha"><font face="Tabitha"><font face="Tabitha">Walleye or Prime Rib Supper<br />\n<b><i><font face="Helvetica-Narrow-BoldOblique"><font face="Helvetica-Narrow-BoldOblique">4:30-6:30pm &bull\; $12.50<br />\n<b><i><font face="Helvetica-Narrow-BoldOblique"><font face="Helvetica-Narrow-BoldOblique"><font face="Helvetica-Narrow-BoldOblique">Baked Potato\, Coleslaw\, Bread\, Coffee/Milk</font></font></font></i></b></font></font></i></b></font></font></font></span></font></font></font></b></span></span></p>\n\n<p align="LEFT">&nbsp\;</p>\n\n<p align="LEFT"><span style="font-size: 16px\;"><span style="color: rgb(0\, 0\, 0)\;"><span style="color: rgb(255\, 0\, 0)\;"><strong><span style="font-size: 20px\;"><font face="SurvivorFont"><font face="SurvivorFont"><font face="SurvivorFont">New Year&rsquo\;s Day<br />\n<span style="font-size: 16px\;"><span style="color: rgb(0\, 0\, 0)\;"><b><font face="Helvetica-Bold"><font face="Helvetica-Bold"><font face="Helvetica-Bold">Tuesday\, January 1 <span style="color: rgb(0\, 0\, 0)\;"><b><i><font face="Helvetica-Narrow-BoldOblique"><font face="Helvetica-Narrow-BoldOblique"><font face="Helvetica-Narrow-BoldOblique">&bull\; 8am</font></font></font></i></b></span></font></font></font></b></span></span></font></font></font></span></strong></span></span></span></p>\n\n<p align="LEFT"><span style="font-size: 12px\;"><span style="color: rgb(0\, 0\, 0)\;"><font face="Tabitha"><font face="Tabitha"><font face="Tabitha">Pancakes &bull\; Sausages &bull\; Coffee/Milk</font></font></font></span></span></p>\n\n<p align="LEFT"><span style="color: rgb(0\, 0\, 0)\;"><font face="Helvetica-Narrow" size="1"><font face="Helvetica-Narrow" size="1"><font face="Helvetica-Narrow" size="1">Public Welcome &bull\; $4.00/Plate</font></font></font></span></p>\n\n<p><span style="color: rgb(0\, 0\, 0)\;"><font face="Helvetica-Narrow" size="1"><font face="Helvetica-Narrow" size="1"><font face="Helvetica-Narrow" size="1">Free To Paid Members &amp\; Their Families</font></font></font></span></p>\n\n<p><span style="font-size: 20px\;"><strong><span style="color: rgb(0\, 0\, 255)\;"><font face="Tabitha"><font face="Tabitha"><font face="Tabitha">Bands</font></font></font></span></strong></span></p>\n\n<p align="LEFT"><span style="font-size: 12px\;"><span style="color: rgb(0\, 0\, 0)\;"><b><font face="Helvetica-Bold"><font face="Helvetica-Bold"><font face="Helvetica-Bold">Nite Owls <span style="color: rgb(0\, 0\, 0)\;"><font face="Helvetica"><font face="Helvetica"><font face="Helvetica">&bull\; </font></font></font><b><i><font face="Helvetica-Narrow-BoldOblique"><font face="Helvetica-Narrow-BoldOblique"><font face="Helvetica-Narrow-BoldOblique">Old Time Music</font></font></font></i></b></span></font></font></font></b></span></span></p>\n\n<p align="LEFT"><span style="font-size: 12px\;"><span style="color: rgb(0\, 0\, 0)\;"><b><i><font face="Helvetica-Narrow-BoldOblique"><font face="Helvetica-Narrow-BoldOblique"><font face="Helvetica-Narrow-BoldOblique">10am-2pm <span style="color: rgb(0\, 0\, 0)\;"><b><font face="Helvetica-Narrow-Bold"><font face="Helvetica-Narrow-Bold"><font face="Helvetica-Narrow-Bold">(downstairs)</font></font></font></b></span></font></font></font></i></b></span></span></p>\n\n<p align="LEFT"><span style="font-size: 12px\;"><span style="color: rgb(0\, 0\, 0)\;"><b><font face="Helvetica-Bold"><font face="Helvetica-Bold"><font face="Helvetica-Bold">Thunder Ridge <span style="color: rgb(0\, 0\, 0)\;"><font face="Helvetica"><font face="Helvetica"><font face="Helvetica">&bull\; </font></font></font><b><i><font face="Helvetica-Narrow-BoldOblique"><font face="Helvetica-Narrow-BoldOblique"><font face="Helvetica-Narrow-BoldOblique">Country Rock</font></font></font></i></b></span></font></font></font></b></span></span></p>\n\n<p align="LEFT"><span style="font-size: 12px\;"><span style="color: rgb(0\, 0\, 0)\;"><b><i><font face="Helvetica-Narrow-BoldOblique"><font face="Helvetica-Narrow-BoldOblique"><font face="Helvetica-Narrow-BoldOblique">1:30-5:30pm <b><font face="Helvetica-Narrow-Bold"><font face="Helvetica-Narrow-Bold"><font face="Helvetica-Narrow-Bold">(Upstairs)</font></font></font></b></font></font></font></i></b></span></span></p>\n\n<p align="LEFT"><span style="color: rgb(0\, 0\, 0)\;"><b><font face="Helvetica-Bold" size="1"><font face="Helvetica-Bold" size="1"><font face="Helvetica-Bold" size="1">Bar Bingo at <b><i><font face="Helvetica-Narrow-BoldOblique" size="1"><font face="Helvetica-Narrow-BoldOblique" size="1"><font face="Helvetica-Narrow-BoldOblique" size="1">3pm</font></font></font></i></b></font></font></font></b></span></p>\n
LOCATION:Eagles Aerie 2339 (SHIP) 120 S Peck St Fergus Falls MN
UID:e.314.52182
SEQUENCE:3
DTSTAMP:20260423T105212Z
URL:https://business.fergusfalls.com/events/details/eagles-aerie-2339-52182
END:VEVENT

END:VCALENDAR
