BEGIN:VCALENDAR
VERSION:2.0
PRODID:-//ChamberMaster//Event Calendar 2.0//EN
METHOD:PUBLISH
X-PUBLISHED-TTL:P3D
REFRESH-INTERVAL:P3D
CALSCALE:GREGORIAN
BEGIN:VEVENT
DTSTART:20180928T210000Z
DTEND:20180929T010000Z
X-MICROSOFT-CDO-ALLDAYEVENT:FALSE
SUMMARY:Eagles Aerie #2339 (Eagles Ship)
DESCRIPTION:Eagles Aerie #2339\n\nMeat Raffle & Bar Bingo
X-ALT-DESC;FMTTYPE=text/html:<p><strong><font color="#0066cc"><span style="font-size: 16px\;">Eagles Aerie #2339</span></font><br />\n<span style="color: rgb(0\, 0\, 0)\;">Meat Raffle &amp\; Bar Bingo</span></strong><br />\n<br />\n&nbsp\;</p>\n
LOCATION:120 South Peck Street
UID:e.314.19862
SEQUENCE:3
DTSTAMP:20260423T165429Z
URL:https://business.fergusfalls.com/events/details/eagles-aerie-2339-eagles-ship-09-28-2018-19862
END:VEVENT

END:VCALENDAR
