BEGIN:VCALENDAR
VERSION:2.0
PRODID:-//ChamberMaster//Event Calendar 2.0//EN
METHOD:PUBLISH
X-PUBLISHED-TTL:P3D
REFRESH-INTERVAL:P3D
CALSCALE:GREGORIAN
BEGIN:VEVENT
DTSTART:20190322T170000Z
DTEND:20190322T200000Z
X-MICROSOFT-CDO-ALLDAYEVENT:FALSE
SUMMARY:Early Out - Fergus Falls Public Schools
DESCRIPTION:Fergus Falls Public Schools reminds you that students are let out 3 -hours early on Friday\, March 22\, 2019. \n\n\n\nThere will be a FULL Day of school on Monday\, March 25th\, 2019
X-ALT-DESC;FMTTYPE=text/html:Fergus Falls Public Schools reminds you that students are let out 3 -hours early on Friday\, March 22\, 2019.&nbsp\;<br />\n<br />\nThere will be a FULL Day of school on Monday\, March 25th\, 2019<br />\n&nbsp\;
LOCATION:Fergus Falls Public Schools
UID:e.314.52806
SEQUENCE:3
DTSTAMP:20260423T092516Z
URL:https://business.fergusfalls.com/events/details/early-out-fergus-falls-public-schools-52806
END:VEVENT

END:VCALENDAR
