BEGIN:VCALENDAR
VERSION:2.0
PRODID:-//ChamberMaster//Event Calendar 2.0//EN
METHOD:PUBLISH
X-PUBLISHED-TTL:P3D
REFRESH-INTERVAL:P3D
CALSCALE:GREGORIAN
BEGIN:VEVENT
DTSTART:20190420T180000Z
DTEND:20190420T210000Z
X-MICROSOFT-CDO-ALLDAYEVENT:FALSE
SUMMARY:Earth Day Clean-Up 2019!
DESCRIPTION:Earth Day Clean-Up 2019!\n\nSpring is here\, snow is melting\, and garbage is EVERYWHERE. To celebrate Earth Day this year\, let's lend a hand in cleaning up and beautifying our community for a better\, cleaner leap into our outdoor summer fun!\n\n\n\nWhen: Saturday\, April 20th\, 2019\, 1:00-4:00\n\nWhere: meet at City Hall Park (located behind City Hall\, downtown Fergus Falls)\n\n\n\nWhat we will provide: Hefty bags\, gloves\, nabbers\, and grabbers (but are limited\, so bring yours if you have!)\; what we need: baggers ( --- that's you!) Bottled water and snacks will also be provided \n\n\n\nThe plan: meet at location @ 1:00pm. We will designate and chart cleanup routes to make sure as much ground is covered as possible. The focus points will be the Riverwalk\, Downtown (Lincoln Ave. and all side streets)\, Lake Alice\, and heavily-trafficked foot/bike paths and routes.\n\n\n\nIf possible\, participants are encouraged to bring back their haul (including recyclables) to the original meeting spot by 4:00pm so we can see the impact we made in our cleanup.\n\n\n\nFollowing the cleanup\, participants are encouraged to head over to Union Pizza and Brewing Co. for Happy Hour and to pat ourselves on the back for a job well done.\n\n\n\nPlease wear comfortable\, weather-appropriate clothing and walking shoes!
X-ALT-DESC;FMTTYPE=text/html:Earth Day Clean-Up 2019!<br />\n<span>Spring is here\, snow is melting\, and garbage is EVERYWHERE. To celebrate Earth Day this year\, let&#39\;s lend a hand in cleaning up and beautifying our community for a better\, cleaner leap into our outdoor summer fun!<br />\n<br />\nWhen: Saturday\, April 20th\, 2019\, 1:00-4:00<br />\nWhere: meet at City Hall Park (located behind City Hall\, downtown Fergus Falls)<br />\n<br />\nWhat we will provide: Hefty bags\, gloves\, nabbers\, and grabbers (but are limited\, so bring yours if you have!)\; what we need: baggers (&lt\;--- that&#39\;s you!) Bottled water and snacks will also be provided </span><br />\n<br />\nThe plan: meet at location @ 1:00pm. We will designate and chart cleanup routes to make sure as much ground is covered as possible. The focus points will be the Riverwalk\, Downtown (Lincoln Ave. and all side streets)\, Lake Alice\, and heavily-trafficked foot/bike paths and routes.<br />\n<br />\nIf possible\, participants are encouraged to bring back their haul (including recyclables) to the original meeting spot by 4:00pm so we can see the impact we made in our cleanup.<br />\n<br />\nFollowing the cleanup\, participants are encouraged to head over to Union Pizza and Brewing Co. for Happy Hour and to pat ourselves on the back for a job well done.<br />\n<br />\nPlease wear comfortable\, weather-appropriate clothing and walking shoes!<br />\n&nbsp\;
LOCATION:City Hall Park Fergus Falls\, Minnesota 56537
UID:e.314.53875
SEQUENCE:3
DTSTAMP:20260423T062918Z
URL:https://business.fergusfalls.com/events/details/earth-day-clean-up-2019-53875
END:VEVENT

END:VCALENDAR
