BEGIN:VCALENDAR
VERSION:2.0
PRODID:-//ChamberMaster//Event Calendar 2.0//EN
METHOD:PUBLISH
X-PUBLISHED-TTL:P3D
REFRESH-INTERVAL:P3D
CALSCALE:GREGORIAN
BEGIN:VEVENT
DTSTART:20190421T140000Z
DTEND:20190421T150000Z
X-MICROSOFT-CDO-ALLDAYEVENT:FALSE
SUMMARY:Easter at the Naz
DESCRIPTION:Kidz Ministry is offered during the 9 and 10:30 am services for infants - 6th graders. Kidz Ministry is a safe and fun environment where your children will learn an age-appropriate message on the Easter story.
X-ALT-DESC;FMTTYPE=text/html:Kidz Ministry is offered during the 9 and 10:30 am services for infants - 6th graders. Kidz Ministry is a safe and fun environment where your children will learn an age-appropriate message on the Easter story.
LOCATION:1319 N. Cleveland Ave. Fergus Falls\, MN
UID:e.314.53051
SEQUENCE:3
DTSTAMP:20260423T063044Z
URL:https://business.fergusfalls.com/events/details/easter-at-the-naz-04-21-2019-53051
END:VEVENT

END:VCALENDAR
