BEGIN:VCALENDAR
VERSION:2.0
PRODID:-//ChamberMaster//Event Calendar 2.0//EN
METHOD:PUBLISH
X-PUBLISHED-TTL:P3D
REFRESH-INTERVAL:P3D
CALSCALE:GREGORIAN
BEGIN:VEVENT
DTSTART:20190421T123000Z
DTEND:20190421T163000Z
X-MICROSOFT-CDO-ALLDAYEVENT:FALSE
SUMMARY:Easter at the Naz
DESCRIPTION:https://www.facebook.com/events/812744142438725/
X-ALT-DESC;FMTTYPE=text/html:https://www.facebook.com/events/812744142438725/
LOCATION:The Naz
UID:e.314.53028
SEQUENCE:3
DTSTAMP:20260423T062848Z
URL:https://business.fergusfalls.com/events/details/easter-at-the-naz-53028
END:VEVENT

END:VCALENDAR
