BEGIN:VCALENDAR
VERSION:2.0
PRODID:-//ChamberMaster//Event Calendar 2.0//EN
METHOD:PUBLISH
X-PUBLISHED-TTL:P3D
REFRESH-INTERVAL:P3D
CALSCALE:GREGORIAN
BEGIN:VEVENT
DTSTART:20170416T150000Z
DTEND:20170416T190000Z
X-MICROSOFT-CDO-ALLDAYEVENT:FALSE
SUMMARY:Easter Brunch
DESCRIPTION:Celebrate with us! Easter Brunch!\n\nBigwood Event Center\, 925 Western Ave\, Fergus \n\nSunday\, April 16\, 10a-2p\n\n\n\nAdult $21.95. \n\nSeniors $19.95. \n\nAges 4-10 $9.95. \n\n3 and under free. \n\n\n\nNew! We will now be offering 3 different reserved seating times!\n\n10am ~ 11.30am ~ 1pm\n\n\n\nPlease make reservation by Thursday\, 4/13 for 4+ parties by calling Country Inn & Suites - Fergus Falls at +1 (218) 739-2211and speaking to a front desk associate\; they can take information and reserve your preferred seating time! \n\n\n\nBring the camera for an Eastery Bunny picture!\n\n\n\nOur all-you-can-eat brunch buffet includes:\n\nBountiful fruit display\, tilapia w/ dill hollandaise\, grilled chicken breast w/ parmesan sauce\, black oak ham w/ cherry glaze\, steamed veggies\, veggie and meat egg bakes\, sausage\, pancakes\, MN wild rice sausage gravy & biscuits\, cheesy hash browns\, green bean casserole\, assorted breads\, lefsa\, pastries\, gourmet butter\, smoked salmon\, white fish\, full salad bar\, assortment of desserts\, coffee\, water\n\n\n\nWe are excited to host this special meal for you\, family\, and friends! We look forward to seeing you!
X-ALT-DESC;FMTTYPE=text/html:<span style="color: rgb(75\, 79\, 86)\; font-family: Helvetica\, Arial\, sans-serif\; font-size: 14px\; background-color: rgb(255\, 255\, 255)\;">Celebrate with us! Easter Brunch!</span><br style="color: rgb(75\, 79\, 86)\; font-family: Helvetica\, Arial\, sans-serif\; font-size: 14px\; background-color: rgb(255\, 255\, 255)\;" />\n<span style="color: rgb(75\, 79\, 86)\; font-family: Helvetica\, Arial\, sans-serif\; font-size: 14px\; background-color: rgb(255\, 255\, 255)\;">Bigwood Event Center\, 925 Western Ave\, Fergus&nbsp\;</span><br style="color: rgb(75\, 79\, 86)\; font-family: Helvetica\, Arial\, sans-serif\; font-size: 14px\; background-color: rgb(255\, 255\, 255)\;" />\n<span style="color: rgb(75\, 79\, 86)\; font-family: Helvetica\, Arial\, sans-serif\; font-size: 14px\; background-color: rgb(255\, 255\, 255)\;">Sunday\, April 16\, 10a-2p</span><br style="color: rgb(75\, 79\, 86)\; font-family: Helvetica\, Arial\, sans-serif\; font-size: 14px\; background-color: rgb(255\, 255\, 255)\;" />\n<br style="color: rgb(75\, 79\, 86)\; font-family: Helvetica\, Arial\, sans-serif\; font-size: 14px\; background-color: rgb(255\, 255\, 255)\;" />\n<span style="color: rgb(75\, 79\, 86)\; font-family: Helvetica\, Arial\, sans-serif\; font-size: 14px\; background-color: rgb(255\, 255\, 255)\;">Adult $21.95.&nbsp\;</span><br style="color: rgb(75\, 79\, 86)\; font-family: Helvetica\, Arial\, sans-serif\; font-size: 14px\; background-color: rgb(255\, 255\, 255)\;" />\n<span style="color: rgb(75\, 79\, 86)\; font-family: Helvetica\, Arial\, sans-serif\; font-size: 14px\; background-color: rgb(255\, 255\, 255)\;">Seniors $19.95.&nbsp\;</span><br style="color: rgb(75\, 79\, 86)\; font-family: Helvetica\, Arial\, sans-serif\; font-size: 14px\; background-color: rgb(255\, 255\, 255)\;" />\n<span style="color: rgb(75\, 79\, 86)\; font-family: Helvetica\, Arial\, sans-serif\; font-size: 14px\; background-color: rgb(255\, 255\, 255)\;">Ages 4-10 $9.95.&nbsp\;</span><br style="color: rgb(75\, 79\, 86)\; font-family: Helvetica\, Arial\, sans-serif\; font-size: 14px\; background-color: rgb(255\, 255\, 255)\;" />\n<span style="color: rgb(75\, 79\, 86)\; font-family: Helvetica\, Arial\, sans-serif\; font-size: 14px\; background-color: rgb(255\, 255\, 255)\;">3 and under free.&nbsp\;</span><br style="color: rgb(75\, 79\, 86)\; font-family: Helvetica\, Arial\, sans-serif\; font-size: 14px\; background-color: rgb(255\, 255\, 255)\;" />\n<br style="color: rgb(75\, 79\, 86)\; font-family: Helvetica\, Arial\, sans-serif\; font-size: 14px\; background-color: rgb(255\, 255\, 255)\;" />\n<span style="color: rgb(75\, 79\, 86)\; font-family: Helvetica\, Arial\, sans-serif\; font-size: 14px\; background-color: rgb(255\, 255\, 255)\;">New! We will now be offering 3 different reserved seating times!</span><br style="color: rgb(75\, 79\, 86)\; font-family: Helvetica\, Arial\, sans-serif\; font-size: 14px\; background-color: rgb(255\, 255\, 255)\;" />\n<span style="color: rgb(75\, 79\, 86)\; font-family: Helvetica\, Arial\, sans-serif\; font-size: 14px\; background-color: rgb(255\, 255\, 255)\;">10am ~ 11.30am ~ 1pm</span><br style="color: rgb(75\, 79\, 86)\; font-family: Helvetica\, Arial\, sans-serif\; font-size: 14px\; background-color: rgb(255\, 255\, 255)\;" />\n<br />\n<span class="text_exposed_show" style="display: inline\; font-family: Helvetica\, Arial\, sans-serif\; color: rgb(75\, 79\, 86)\; font-size: 14px\; background-color: rgb(255\, 255\, 255)\;">Please make reservation by Thursday\, 4/13 for 4+ parties by calling Country Inn &amp\; Suites - Fergus Falls at +1 (218) 739-2211and speaking to a front desk associate\; they can take information and reserve your preferred seating time!&nbsp\;<br />\n<br />\nBring the camera for an Eastery Bunny picture!<br />\n<br />\nOur all-you-can-eat brunch buffet includes:<br />\nBountiful fruit display\, tilapia w/ dill hollandaise\, grilled chicken breast w/ parmesan sauce\, black oak ham w/ cherry glaze\, steamed veggies\, veggie and meat egg bakes\, sausage\, pancakes\, MN wild rice sausage gravy &amp\; biscuits\, cheesy hash browns\, green bean casserole\, assorted breads\, lefsa\, pastries\, gourmet butter\, smoked salmon\, white fish\, full salad bar\, assortment of desserts\, coffee\, water<br />\n<br />\nWe are excited to host this special meal for you\, family\, and friends! We look forward to seeing you!</span>
LOCATION:pin Hide Map Country Inn & Suites / Bigwood Event Center 925 Western Ave\, Fergus Falls
UID:e.314.38935
SEQUENCE:3
DTSTAMP:20260424T204345Z
URL:https://business.fergusfalls.com/events/details/easter-brunch-38935
END:VEVENT

END:VCALENDAR
